BEGIN:VCALENDAR
VERSION:2.0
METHOD:PUBLISH
PRODID:-//Missouri State University/Calendar of Events//EN
CALSCALE:GREGORIAN
X-WR-TIMEZONE:America/Chicago
BEGIN:VTIMEZONE
TZID:America/Chicago
BEGIN:DAYLIGHT
TZOFFSETFROM:-0600
TZOFFSETTO:-0500
DTSTART:20070311T020000
RRULE:FREQ=YEARLY;BYMONTH=3;BYDAY=2SU
TZNAME:CDT
END:DAYLIGHT
BEGIN:STANDARD
TZOFFSETFROM:-0500
TZOFFSETTO:-0600
DTSTART:20071104T020000
RRULE:FREQ=YEARLY;BYMONTH=11;BYDAY=1SU
TZNAME:CST
END:STANDARD
END:VTIMEZONE
BEGIN:VEVENT
UID:d81eadb7-a5f9-4618-be3d-9db8819b2550.233937@calendar.missouristate.edu
CREATED:20240123T020910Z
LAST-MODIFIED:20240123T020910Z
LOCATION:Plaster Free Enterprise Center\, Robert W.
SUMMARY:MSPE Discover Engineering Day 2024
DESCRIPTION:Discover Engineering Day is an educational outreach event gear
 ed to elementary school-aged children hosted by the Missouri Society of P
 rofessional Engineers (MSPE) Ozark Chapter and Missouri State University 
 every year during Engineers Week. The event consists of dozens of interac
 tive and informative engineering or engineering-related activities and de
 monstrations.\n\n\nThe event is free. No RSVP required.\n\n\nParking: In 
 the parking lot on the east side of Boonville and Mill streets intersecti
 on
X-ALT-DESC;FMTTYPE=text/html:&lt;html&gt;&lt;head&gt;&lt;title&gt;&lt;/title&gt;&lt;/head&gt;&lt;body&gt;&lt;p&gt;&lt;s
 pan&gt;Discover Engineering Day is an educational outreach event geared to e
 lementary school-aged children hosted by the Missouri Society of Professi
 onal Engineers (MSPE) Ozark Chapter and Missouri State University every y
 ear during Engineers Week. The event consists of dozens of interactive an
 d informative engineering or engineering-related activities and demonstra
 tions.&lt;/span&gt;&lt;/p&gt;\n&lt;p&gt;&lt;span&gt;The event is free. No RSVP required.&lt;/span&gt;&lt;/
 p&gt;\n&lt;p&gt;&lt;span&gt;Parking: In the parking lot on the east side of Boonville an
 d Mill streets intersection&lt;/span&gt;&lt;/p&gt;\n&lt;p&gt;&lt;/p&gt;&lt;/body&gt;&lt;/html&gt;
DTSTART;TZID=America/Chicago:20240217T130000
DTEND;TZID=America/Chicago:20240217T160000
SEQUENCE:0
URL:122827.JPG
CATEGORIES:Public,Alumni,Current Students,Faculty,Future Students,Staff
END:VEVENT
END:VCALENDAR