BEGIN:VCALENDAR
VERSION:2.0
METHOD:PUBLISH
PRODID:-//Missouri State University/Calendar of Events//EN
CALSCALE:GREGORIAN
X-WR-TIMEZONE:America/Chicago
BEGIN:VTIMEZONE
TZID:America/Chicago
BEGIN:DAYLIGHT
TZOFFSETFROM:-0600
TZOFFSETTO:-0500
DTSTART:20070311T020000
RRULE:FREQ=YEARLY;BYMONTH=3;BYDAY=2SU
TZNAME:CDT
END:DAYLIGHT
BEGIN:STANDARD
TZOFFSETFROM:-0500
TZOFFSETTO:-0600
DTSTART:20071104T020000
RRULE:FREQ=YEARLY;BYMONTH=11;BYDAY=1SU
TZNAME:CST
END:STANDARD
END:VTIMEZONE
BEGIN:VEVENT
UID:29bc3e92-3382-40c7-ac26-7b39788f8f26.233938@calendar.missouristate.edu
CREATED:20240119T170757Z
LAST-MODIFIED:20240119T170757Z
LOCATION:Meyer Library\, Duane G. 204
SUMMARY:An Approach to Learning and Mental Health in the College Classroom 
DESCRIPTION:Faculty will explore ways that Mental Health issues enter into
  their classrooms and impact on their teaching and student learning.  We 
 will discuss ways that we can have a positive impact on student well-bein
 g without being trained counselors and without adding to our own stress a
 nd workload. 
X-ALT-DESC;FMTTYPE=text/html:&lt;html&gt;&lt;head&gt;&lt;title&gt;&lt;/title&gt;&lt;/head&gt;&lt;body&gt;&lt;p&gt;&lt;s
 pan&gt;Faculty will explore ways that Mental Health issues enter into their 
 classrooms and impact on their teaching and student learning.&amp;nbsp\; We w
 ill discuss ways that we can have a positive impact on student well-being
  without being trained counselors and without adding to our own stress an
 d workload.&amp;nbsp\;&lt;/span&gt;&lt;/p&gt;&lt;/body&gt;&lt;/html&gt;
DTSTART;TZID=America/Chicago:20240209T113000
DTEND;TZID=America/Chicago:20240209T133000
SEQUENCE:0
URL:https://www.missouristate.edu/FCTL/flc_join.htm
CATEGORIES:Public,Faculty,Staff
END:VEVENT
END:VCALENDAR