BEGIN:VCALENDAR
VERSION:2.0
METHOD:PUBLISH
PRODID:-//Missouri State University/Calendar of Events//EN
CALSCALE:GREGORIAN
X-WR-TIMEZONE:America/Chicago
BEGIN:VTIMEZONE
TZID:America/Chicago
BEGIN:DAYLIGHT
TZOFFSETFROM:-0600
TZOFFSETTO:-0500
DTSTART:20070311T020000
RRULE:FREQ=YEARLY;BYMONTH=3;BYDAY=2SU
TZNAME:CDT
END:DAYLIGHT
BEGIN:STANDARD
TZOFFSETFROM:-0500
TZOFFSETTO:-0600
DTSTART:20071104T020000
RRULE:FREQ=YEARLY;BYMONTH=11;BYDAY=1SU
TZNAME:CST
END:STANDARD
END:VTIMEZONE
BEGIN:VEVENT
UID:d560cc9a-78d4-4a25-b439-d201f2ac19b0.233949@calendar.missouristate.edu
CREATED:20240123T152333Z
LAST-MODIFIED:20240123T152333Z
LOCATION:Plaster Student Union\, Robert W. Grand Ballroom
SUMMARY:ABBA Disco Mania
DESCRIPTION:Join SAC for a night of song and dance with the iconic discogr
 aphy of pop band ABBA. 
X-ALT-DESC;FMTTYPE=text/html:&lt;html&gt;&lt;head&gt;&lt;title&gt;&lt;/title&gt;&lt;/head&gt;&lt;body&gt;&lt;p&gt;Jo
 in SAC for a night of song and dance with the iconic discography of pop b
 and ABBA.&amp;nbsp\;&lt;/p&gt;&lt;/body&gt;&lt;/html&gt;
DTSTART;TZID=America/Chicago:20240322T190000
DTEND;TZID=America/Chicago:20240322T210000
SEQUENCE:0
URL:
CATEGORIES:Public,Current Students
END:VEVENT
END:VCALENDAR