BEGIN:VCALENDAR
VERSION:2.0
METHOD:PUBLISH
PRODID:-//Missouri State University/Calendar of Events//EN
CALSCALE:GREGORIAN
X-WR-TIMEZONE:America/Chicago
BEGIN:VTIMEZONE
TZID:America/Chicago
BEGIN:DAYLIGHT
TZOFFSETFROM:-0600
TZOFFSETTO:-0500
DTSTART:20070311T020000
RRULE:FREQ=YEARLY;BYMONTH=3;BYDAY=2SU
TZNAME:CDT
END:DAYLIGHT
BEGIN:STANDARD
TZOFFSETFROM:-0500
TZOFFSETTO:-0600
DTSTART:20071104T020000
RRULE:FREQ=YEARLY;BYMONTH=11;BYDAY=1SU
TZNAME:CST
END:STANDARD
END:VTIMEZONE
BEGIN:VEVENT
UID:88da3bd8-1605-4b00-bdd6-69865cf19057.233950@calendar.missouristate.edu
CREATED:20240123T152436Z
LAST-MODIFIED:20240123T152436Z
LOCATION:Plaster Student Union\, Robert W. PSU Food Court
SUMMARY:Karaoke Night
DESCRIPTION:Join SAC for a karaoke night! There will be free snacks and a 
 gift card giveaway!
X-ALT-DESC;FMTTYPE=text/html:&lt;html&gt;&lt;head&gt;&lt;title&gt;&lt;/title&gt;&lt;/head&gt;&lt;body&gt;&lt;p&gt;Jo
 in SAC for a karaoke night! There will be free snacks and a gift card giv
 eaway!&lt;/p&gt;&lt;/body&gt;&lt;/html&gt;
DTSTART;TZID=America/Chicago:20240326T190000
DTEND;TZID=America/Chicago:20240326T200000
SEQUENCE:0
URL:
CATEGORIES:Public,Current Students
END:VEVENT
END:VCALENDAR