BEGIN:VCALENDAR
VERSION:2.0
METHOD:PUBLISH
PRODID:-//Missouri State University/Calendar of Events//EN
CALSCALE:GREGORIAN
X-WR-TIMEZONE:America/Chicago
BEGIN:VTIMEZONE
TZID:America/Chicago
BEGIN:DAYLIGHT
TZOFFSETFROM:-0600
TZOFFSETTO:-0500
DTSTART:20070311T020000
RRULE:FREQ=YEARLY;BYMONTH=3;BYDAY=2SU
TZNAME:CDT
END:DAYLIGHT
BEGIN:STANDARD
TZOFFSETFROM:-0500
TZOFFSETTO:-0600
DTSTART:20071104T020000
RRULE:FREQ=YEARLY;BYMONTH=11;BYDAY=1SU
TZNAME:CST
END:STANDARD
END:VTIMEZONE
BEGIN:VEVENT
UID:3e491028-927f-42e2-bbc8-5f2b07809ce3.233952@calendar.missouristate.edu
CREATED:20240123T152618Z
LAST-MODIFIED:20240123T152618Z
LOCATION:Plaster Student Union\, Robert W. North Lawn
SUMMARY:Boomer Scootin' Boogie
DESCRIPTION:Join us for this event to learn a new dance with some of our f
 avorite dance instructors!
X-ALT-DESC;FMTTYPE=text/html:&lt;html&gt;&lt;head&gt;&lt;title&gt;&lt;/title&gt;&lt;/head&gt;&lt;body&gt;&lt;p&gt;Jo
 in us for this event to learn a new dance with some of our favorite dance
  instructors!&lt;/p&gt;&lt;/body&gt;&lt;/html&gt;
DTSTART;TZID=America/Chicago:20240405T190000
DTEND;TZID=America/Chicago:20240405T203000
SEQUENCE:0
URL:
CATEGORIES:Public,Current Students
END:VEVENT
END:VCALENDAR