BEGIN:VCALENDAR
VERSION:2.0
METHOD:PUBLISH
PRODID:-//Missouri State University/Calendar of Events//EN
CALSCALE:GREGORIAN
X-WR-TIMEZONE:America/Chicago
BEGIN:VTIMEZONE
TZID:America/Chicago
BEGIN:DAYLIGHT
TZOFFSETFROM:-0600
TZOFFSETTO:-0500
DTSTART:20070311T020000
RRULE:FREQ=YEARLY;BYMONTH=3;BYDAY=2SU
TZNAME:CDT
END:DAYLIGHT
BEGIN:STANDARD
TZOFFSETFROM:-0500
TZOFFSETTO:-0600
DTSTART:20071104T020000
RRULE:FREQ=YEARLY;BYMONTH=11;BYDAY=1SU
TZNAME:CST
END:STANDARD
END:VTIMEZONE
BEGIN:VEVENT
UID:b4f40b57-1178-4261-9236-ce1912765707.233993@calendar.missouristate.edu
CREATED:20240123T202414Z
LAST-MODIFIED:20240123T202414Z
LOCATION:Meyer Library\, Duane G. 205
SUMMARY:FLC Small Teaching 
DESCRIPTION:Discover ways to improve student engagement and learning witho
 ut having to make major changes you current course designs. Identify at l
 east one small change to make in you own instruction from the major topic
 s addressed in the FLC. 
X-ALT-DESC;FMTTYPE=text/html:&lt;html&gt;&lt;head&gt;&lt;title&gt;&lt;/title&gt;&lt;/head&gt;&lt;body&gt;&lt;p&gt;&lt;s
 pan&gt;Discover ways to improve student engagement and learning without havi
 ng to make major changes you current course designs.&amp;nbsp\;&lt;/span&gt;Identif
 y at least one small change to make in you own instruction from the major
  topics addressed in the FLC.&amp;nbsp\;&lt;/p&gt;&lt;/body&gt;&lt;/html&gt;
DTSTART;TZID=America/Chicago:20240215T130000
DTEND;TZID=America/Chicago:20240215T143000
SEQUENCE:0
URL:https://www.missouristate.edu/FCTL/flc_join.htm
CATEGORIES:Public,Faculty,Staff
END:VEVENT
END:VCALENDAR