BEGIN:VCALENDAR
VERSION:2.0
METHOD:PUBLISH
PRODID:-//Missouri State University/Calendar of Events//EN
CALSCALE:GREGORIAN
X-WR-TIMEZONE:America/Chicago
BEGIN:VTIMEZONE
TZID:America/Chicago
BEGIN:DAYLIGHT
TZOFFSETFROM:-0600
TZOFFSETTO:-0500
DTSTART:20070311T020000
RRULE:FREQ=YEARLY;BYMONTH=3;BYDAY=2SU
TZNAME:CDT
END:DAYLIGHT
BEGIN:STANDARD
TZOFFSETFROM:-0500
TZOFFSETTO:-0600
DTSTART:20071104T020000
RRULE:FREQ=YEARLY;BYMONTH=11;BYDAY=1SU
TZNAME:CST
END:STANDARD
END:VTIMEZONE
BEGIN:VEVENT
UID:975ad4c2-19f5-401f-938c-cc18320f183f.233996@calendar.missouristate.edu
CREATED:20240123T211346Z
LAST-MODIFIED:20240123T211346Z
LOCATION:Plaster Student Union\, Robert W.
SUMMARY:May Day
DESCRIPTION:Come have fun at our annual end-of-year event to take a break 
 from finals! Check our Instagram for more details @mostatesac.
X-ALT-DESC;FMTTYPE=text/html:&lt;html&gt;&lt;head&gt;&lt;title&gt;&lt;/title&gt;&lt;/head&gt;&lt;body&gt;&lt;p&gt;Co
 me have fun at our annual end-of-year event to take a break from finals! 
 Check our Instagram for more details @mostatesac.&lt;/p&gt;&lt;/body&gt;&lt;/html&gt;
DTSTART;TZID=America/Chicago:20240501T230000
DTEND;TZID=America/Chicago:20240501T170000
SEQUENCE:0
URL:https://calendar.missouristate.edu/viewevent.aspx?eventid=122846&amp;occur
 renceid=233996
CATEGORIES:Public,Current Students
END:VEVENT
END:VCALENDAR