BEGIN:VCALENDAR
VERSION:2.0
METHOD:PUBLISH
PRODID:-//Missouri State University/Calendar of Events//EN
CALSCALE:GREGORIAN
X-WR-TIMEZONE:America/Chicago
BEGIN:VTIMEZONE
TZID:America/Chicago
BEGIN:DAYLIGHT
TZOFFSETFROM:-0600
TZOFFSETTO:-0500
DTSTART:20070311T020000
RRULE:FREQ=YEARLY;BYMONTH=3;BYDAY=2SU
TZNAME:CDT
END:DAYLIGHT
BEGIN:STANDARD
TZOFFSETFROM:-0500
TZOFFSETTO:-0600
DTSTART:20071104T020000
RRULE:FREQ=YEARLY;BYMONTH=11;BYDAY=1SU
TZNAME:CST
END:STANDARD
END:VTIMEZONE
BEGIN:VEVENT
UID:96ce8133-dff6-449e-a844-b638984125f1.234017@calendar.missouristate.edu
CREATED:20240124T192141Z
LAST-MODIFIED:20240124T192141Z
LOCATION:https://us02web.zoom.us/j/89916474006
SUMMARY:Board of Governors Special Meeting
DESCRIPTION:The Missouri State University Board of Governors will hold a s
 pecial meeting via Zoom webinar.\n\n\n\n\n\nMeeting agendas can be found 
 here:\n\n\nhttps://www.missouristate.edu/BOG/Agendas/
X-ALT-DESC;FMTTYPE=text/html:&lt;html&gt;&lt;head&gt;&lt;title&gt;&lt;/title&gt;&lt;/head&gt;&lt;body&gt;&lt;p&gt;Th
 e Missouri State University Board of Governors will hold a special meetin
 g via Zoom webinar.&lt;/p&gt;\n&lt;p&gt;&lt;/p&gt;\n&lt;p&gt;Meeting agendas can be found here:&lt;/
 p&gt;\n&lt;p&gt;https://www.missouristate.edu/BOG/Agendas/&lt;/p&gt;&lt;/body&gt;&lt;/html&gt;
DTSTART;TZID=America/Chicago:20240209T083000
DTEND;TZID=America/Chicago:20240209T100000
SEQUENCE:1
URL:https://www.missouristate.edu/BOG/
CATEGORIES:Public,Alumni,Current Students,Faculty,Future Students,Staff
END:VEVENT
END:VCALENDAR