BEGIN:VCALENDAR
VERSION:2.0
METHOD:PUBLISH
PRODID:-//Missouri State University/Calendar of Events//EN
CALSCALE:GREGORIAN
X-WR-TIMEZONE:America/Chicago
BEGIN:VTIMEZONE
TZID:America/Chicago
BEGIN:DAYLIGHT
TZOFFSETFROM:-0600
TZOFFSETTO:-0500
DTSTART:20070311T020000
RRULE:FREQ=YEARLY;BYMONTH=3;BYDAY=2SU
TZNAME:CDT
END:DAYLIGHT
BEGIN:STANDARD
TZOFFSETFROM:-0500
TZOFFSETTO:-0600
DTSTART:20071104T020000
RRULE:FREQ=YEARLY;BYMONTH=11;BYDAY=1SU
TZNAME:CST
END:STANDARD
END:VTIMEZONE
BEGIN:VEVENT
UID:bbf737fb-ea17-4425-accf-0569842877b3.234018@calendar.missouristate.edu
CREATED:20240126T211717Z
LAST-MODIFIED:20240126T211717Z
LOCATION:Zoom
SUMMARY:My Learning Connection ILT Instructor Training
DESCRIPTION:Are you responsible for adding your department’s events into M
 y Learning Connection? If so\, this training is for you!Learn to create a
 nd edit Instructor Led Training (ILT) events and manage session rosters w
 hile adhering to system standards.This course is required for all new My 
 Learning Connection ILT Instructors but is also recommended\, as a review
 \, for existing ILT Instructors.
X-ALT-DESC;FMTTYPE=text/html:&lt;html&gt;&lt;head&gt;&lt;title&gt;&lt;/title&gt;&lt;/head&gt;&lt;body&gt;&lt;p&gt;&lt;s
 pan&gt;Are you responsible for adding your department’s events into&amp;nbsp\;&lt;/
 span&gt;&lt;strong&gt;My Learning Connection&lt;/strong&gt;&lt;span&gt;? If so\, this training
  is for you!&lt;/span&gt;&lt;br&gt;&lt;br&gt;&lt;span&gt;Learn to create and edit Instructor Led 
 Training (ILT) events and manage session rosters while adhering to system
  standards.&lt;/span&gt;&lt;br&gt;&lt;br&gt;&lt;span&gt;This course is&amp;nbsp\;&lt;/span&gt;&lt;strong&gt;requi
 red for all new My Learning Connection ILT Instructors&lt;/strong&gt;&lt;span&gt;&amp;nbs
 p\;but is also recommended\, as a review\, for existing ILT Instructors.&lt;
 /span&gt;&lt;/p&gt;&lt;/body&gt;&lt;/html&gt;
DTSTART;TZID=America/Chicago:20240130T090000
DTEND;TZID=America/Chicago:20240130T100000
SEQUENCE:0
URL:https://blogs.missouristate.edu/human/2024/01/25/lead-yourself-with-ou
 r-power-skills-series-this-spring/
CATEGORIES:Faculty,Staff
END:VEVENT
END:VCALENDAR