BEGIN:VCALENDAR
VERSION:2.0
METHOD:PUBLISH
PRODID:-//Missouri State University/Calendar of Events//EN
CALSCALE:GREGORIAN
X-WR-TIMEZONE:America/Chicago
BEGIN:VTIMEZONE
TZID:America/Chicago
BEGIN:DAYLIGHT
TZOFFSETFROM:-0600
TZOFFSETTO:-0500
DTSTART:20070311T020000
RRULE:FREQ=YEARLY;BYMONTH=3;BYDAY=2SU
TZNAME:CDT
END:DAYLIGHT
BEGIN:STANDARD
TZOFFSETFROM:-0500
TZOFFSETTO:-0600
DTSTART:20071104T020000
RRULE:FREQ=YEARLY;BYMONTH=11;BYDAY=1SU
TZNAME:CST
END:STANDARD
END:VTIMEZONE
BEGIN:VEVENT
UID:734934ab-38ed-46e5-bd98-ef12f130fa0c.234020@calendar.missouristate.edu
CREATED:20240124T221351Z
LAST-MODIFIED:20240124T221351Z
LOCATION:Darr Agricultural Center Darr small animal building 101
SUMMARY:Darr Brightspace FLC
DESCRIPTION:This FLC will introduce Darr College faculty and staff  to the
  many tools of Brightspace\, provide a supportive community as we migrate
  our courses\, and provide time to move courses over to prevent last minu
 te migrations. Meetings will include a short presentation about Brightspa
 ce\, then time will be devoted to faculty working on their courses\, aski
 ng questions\, and receiving feedback from each other.   
X-ALT-DESC;FMTTYPE=text/html:&lt;html&gt;&lt;head&gt;&lt;title&gt;&lt;/title&gt;&lt;/head&gt;&lt;body&gt;&lt;p&gt;&lt;s
 pan&gt;This FLC will introduce Darr College faculty and staff&amp;nbsp\; to the 
 many tools of Brightspace\, provide a supportive community as we migrate 
 our courses\, and provide time to move courses over to prevent last minut
 e migrations. Meetings will include a short presentation about Brightspac
 e\, then time will be devoted to faculty working on their courses\, askin
 g questions\, and receiving feedback from each other.&amp;nbsp\; &amp;nbsp\;&lt;/spa
 n&gt;&lt;/p&gt;&lt;/body&gt;&lt;/html&gt;
DTSTART;TZID=America/Chicago:20240202T130000
DTEND;TZID=America/Chicago:20240202T150000
SEQUENCE:0
URL:https://www.missouristate.edu/FCTL/flc_join.htm
CATEGORIES:Public,Faculty,Staff
END:VEVENT
END:VCALENDAR