BEGIN:VCALENDAR
VERSION:2.0
METHOD:PUBLISH
PRODID:-//Missouri State University/Calendar of Events//EN
CALSCALE:GREGORIAN
X-WR-TIMEZONE:America/Chicago
BEGIN:VTIMEZONE
TZID:America/Chicago
BEGIN:DAYLIGHT
TZOFFSETFROM:-0600
TZOFFSETTO:-0500
DTSTART:20070311T020000
RRULE:FREQ=YEARLY;BYMONTH=3;BYDAY=2SU
TZNAME:CDT
END:DAYLIGHT
BEGIN:STANDARD
TZOFFSETFROM:-0500
TZOFFSETTO:-0600
DTSTART:20071104T020000
RRULE:FREQ=YEARLY;BYMONTH=11;BYDAY=1SU
TZNAME:CST
END:STANDARD
END:VTIMEZONE
BEGIN:VEVENT
UID:00000000-0000-0000-0000-000000000000.234028@calendar.missouristate.edu
CREATED:20240125T184559Z
LAST-MODIFIED:20240125T184559Z
LOCATION:To Be Determined
SUMMARY:St. Louis Alumni Chapter Happy Hour
DESCRIPTION:Missouri State alumni and friends are invited to the St. Louis
  Alumni Chapter Happy Hour on Friday\, Feb. 23. Connect with fellow STL m
 etro alumni and get to know your Alumni Chapter leaders.
X-ALT-DESC;FMTTYPE=text/html:&lt;html&gt;&lt;head&gt;&lt;title&gt;&lt;/title&gt;&lt;/head&gt;&lt;body&gt;Misso
 uri State alumni and friends are invited to the St. Louis Alumni Chapter 
 Happy Hour on Friday\, Feb. 23. Connect with fellow STL metro alumni and 
 get to know your Alumni Chapter leaders.&lt;br&gt;&lt;/body&gt;&lt;/html&gt;
DTSTART;TZID=America/Chicago:20240223T163000
DTEND;TZID=America/Chicago:20240223T183000
SEQUENCE:0
URL:https://missouristate.imodules.com?sid=1691&amp;gid=2&amp;pgid=3558&amp;cid=6294&amp;e
 cid=6294&amp;ciid=21863&amp;crid=0
CATEGORIES:Public,Alumni,Parents and Family,Visitors
END:VEVENT
END:VCALENDAR