BEGIN:VCALENDAR
VERSION:2.0
METHOD:PUBLISH
PRODID:-//Missouri State University/Calendar of Events//EN
CALSCALE:GREGORIAN
X-WR-TIMEZONE:America/Chicago
BEGIN:VTIMEZONE
TZID:America/Chicago
BEGIN:DAYLIGHT
TZOFFSETFROM:-0600
TZOFFSETTO:-0500
DTSTART:20070311T020000
RRULE:FREQ=YEARLY;BYMONTH=3;BYDAY=2SU
TZNAME:CDT
END:DAYLIGHT
BEGIN:STANDARD
TZOFFSETFROM:-0500
TZOFFSETTO:-0600
DTSTART:20071104T020000
RRULE:FREQ=YEARLY;BYMONTH=11;BYDAY=1SU
TZNAME:CST
END:STANDARD
END:VTIMEZONE
BEGIN:VEVENT
UID:596cd3e1-1cfb-4952-9775-f36ae9fa02c8.234061@calendar.missouristate.edu
CREATED:20240126T165452Z
LAST-MODIFIED:20240126T165452Z
LOCATION:
SUMMARY:Advisor Forum: Residence Life\, Housing Holds &amp; More
DESCRIPTION:Facilitator: Teresa Frederick\, director\, Residence Life\, Ho
 using &amp; Dining Services\n\n\nThis session will provide a brief overview o
 f Residence Life\, Housing and Dining Services and a deep dive into the h
 ousing policy\, housing holds\, housing assignments and how to support st
 udents when they are making housing decisions on and off campus. We’ll fe
 ature what’s new with our Living Learning Communities\, other department 
 initiatives and who to contact for various questions.
X-ALT-DESC;FMTTYPE=text/html:&lt;html&gt;&lt;head&gt;&lt;title&gt;&lt;/title&gt;&lt;/head&gt;&lt;body&gt;&lt;p&gt;Fa
 cilitator: Teresa Frederick\, director\, Residence Life\, Housing &amp;amp\; 
 Dining Services&lt;/p&gt;\n&lt;p&gt;This session will provide a brief overview of Res
 idence Life\, Housing and Dining Services and a deep dive into the housin
 g policy\, housing holds\, housing assignments and how to support student
 s when they are making housing decisions on and off campus. We’ll feature
  what’s new with our Living Learning Communities\, other department initi
 atives and who to contact for various questions.&lt;/p&gt;&lt;/body&gt;&lt;/html&gt;
DTSTART;TZID=America/Chicago:20240209T120000
DTEND;TZID=America/Chicago:20240209T130000
SEQUENCE:1
URL:122871.png
CATEGORIES:Faculty,Staff
END:VEVENT
END:VCALENDAR