BEGIN:VCALENDAR
VERSION:2.0
METHOD:PUBLISH
PRODID:-//Missouri State University/Calendar of Events//EN
CALSCALE:GREGORIAN
X-WR-TIMEZONE:America/Chicago
BEGIN:VTIMEZONE
TZID:America/Chicago
BEGIN:DAYLIGHT
TZOFFSETFROM:-0600
TZOFFSETTO:-0500
DTSTART:20070311T020000
RRULE:FREQ=YEARLY;BYMONTH=3;BYDAY=2SU
TZNAME:CDT
END:DAYLIGHT
BEGIN:STANDARD
TZOFFSETFROM:-0500
TZOFFSETTO:-0600
DTSTART:20071104T020000
RRULE:FREQ=YEARLY;BYMONTH=11;BYDAY=1SU
TZNAME:CST
END:STANDARD
END:VTIMEZONE
BEGIN:VEVENT
UID:4ff9dea6-af51-41de-b36e-b38867540f19.234062@calendar.missouristate.edu
CREATED:20240126T165051Z
LAST-MODIFIED:20240126T165051Z
LOCATION:
SUMMARY:Advisor Forum: Through the Looking Glass: The Missouri State Trans
 fer Experience
DESCRIPTION:Facilitator: Nick Beatty\, instructor &amp; academic advisor\, Pol
 itical Science &amp; Philosophy Department\n\n\nPresenters: Bart Tibbs\, assi
 stant director-transfer outreach &amp; recruitment\, Office of Admissions\n\n
 \nBen Metzger\, associate director-operations &amp; systems\, Office of Admis
 sions\n\n\nLori Day\, senior admission evaluator\, Office of Admissions\n
 \n\nTara Benson\, associate director\, PSU\, director\, Office of Student
  Engagement\n\n\nCampbell Keele\, coordinator\, transfer initiatives\, Ac
 ademic Advising &amp; Transfer Center\n\n\nThe Transfer Advising Committee in
 vites you to join us as we walk through the students' perspective on the 
 Missouri State transfer process. We'll discuss communication a student re
 ceives from the Office of Admissions\, Transfer Student Orientation\, the
  transfer credit re-evaluation process and campus integration efforts\, a
 ll through the eyes of the student.
X-ALT-DESC;FMTTYPE=text/html:&lt;html&gt;&lt;head&gt;&lt;title&gt;&lt;/title&gt;&lt;/head&gt;&lt;body&gt;&lt;p&gt;Fa
 cilitator: Nick Beatty\, instructor &amp;amp\; academic advisor\, Political S
 cience &amp;amp\; Philosophy Department&lt;/p&gt;\n&lt;p&gt;Presenters: Bart Tibbs\, assi
 stant director-transfer outreach &amp;amp\; recruitment\, Office of Admission
 s&lt;/p&gt;\n&lt;p&gt;Ben Metzger\, associate director-operations &amp;amp\; systems\, Of
 fice of Admissions&lt;/p&gt;\n&lt;p&gt;Lori Day\, senior admission evaluator\, Office
  of Admissions&lt;/p&gt;\n&lt;p&gt;Tara Benson\, associate director\, PSU\, director\
 , Office of Student Engagement&lt;/p&gt;\n&lt;p&gt;Campbell Keele\, coordinator\, tra
 nsfer initiatives\, Academic Advising &amp;amp\; Transfer Center&lt;/p&gt;\n&lt;p&gt;The 
 Transfer Advising Committee invites you to join us as we walk through the
  students' perspective on the Missouri State transfer process. We'll disc
 uss communication a student receives from the Office of Admissions\, Tran
 sfer Student Orientation\, the transfer credit re-evaluation process and 
 campus integration efforts\, all through the eyes of the student.&lt;/p&gt;&lt;/bo
 dy&gt;&lt;/html&gt;
DTSTART;TZID=America/Chicago:20240226T120000
DTEND;TZID=America/Chicago:20240226T130000
SEQUENCE:2
URL:122872.png
CATEGORIES:Faculty,Staff
END:VEVENT
END:VCALENDAR