BEGIN:VCALENDAR
VERSION:2.0
METHOD:PUBLISH
PRODID:-//Missouri State University/Calendar of Events//EN
CALSCALE:GREGORIAN
X-WR-TIMEZONE:America/Chicago
BEGIN:VTIMEZONE
TZID:America/Chicago
BEGIN:DAYLIGHT
TZOFFSETFROM:-0600
TZOFFSETTO:-0500
DTSTART:20070311T020000
RRULE:FREQ=YEARLY;BYMONTH=3;BYDAY=2SU
TZNAME:CDT
END:DAYLIGHT
BEGIN:STANDARD
TZOFFSETFROM:-0500
TZOFFSETTO:-0600
DTSTART:20071104T020000
RRULE:FREQ=YEARLY;BYMONTH=11;BYDAY=1SU
TZNAME:CST
END:STANDARD
END:VTIMEZONE
BEGIN:VEVENT
UID:fc96fb93-c535-442b-92ea-6daaa0745fe7.234063@calendar.missouristate.edu
CREATED:20240126T164457Z
LAST-MODIFIED:20240126T164457Z
LOCATION:Plaster Student Union\, Robert W. 314
SUMMARY:Advisor Forum: Exploring Ethical Frameworks for Advising: Part 2
DESCRIPTION:Presenter: Kimmy Walker\, assistant director\, MCHHS Student S
 uccess &amp; Advisement Center\n\n\nThis forum will explore the implementatio
 n of ethical frameworks in advising through case studies and discussion. 
 Case studies will differ from those shared in Master Advisor Training\, a
 nd the session will also discuss incorporation of other personal foundati
 ons in advising such as the use of advising philosophies and syllabi (pre
 vious participation in Part 1 in fall 2023 not required).
X-ALT-DESC;FMTTYPE=text/html:&lt;html&gt;&lt;head&gt;&lt;title&gt;&lt;/title&gt;&lt;/head&gt;&lt;body&gt;&lt;p&gt;Pr
 esenter: Kimmy Walker\, assistant director\, MCHHS Student Success &amp;amp\;
  Advisement Center&lt;/p&gt;\n&lt;p&gt;This forum will explore the implementation of 
 ethical frameworks in advising through case studies and discussion. Case 
 studies will differ from those shared in Master Advisor Training\, and th
 e session will also discuss incorporation of other personal foundations i
 n advising such as the use of advising philosophies and syllabi (previous
  participation in Part 1 in fall 2023 not required).&lt;/p&gt;&lt;/body&gt;&lt;/html&gt;
DTSTART;TZID=America/Chicago:20240228T120000
DTEND;TZID=America/Chicago:20240228T130000
SEQUENCE:0
URL:122874.png
CATEGORIES:Faculty,Staff
END:VEVENT
END:VCALENDAR