BEGIN:VCALENDAR
VERSION:2.0
METHOD:PUBLISH
PRODID:-//Missouri State University/Calendar of Events//EN
CALSCALE:GREGORIAN
X-WR-TIMEZONE:America/Chicago
BEGIN:VTIMEZONE
TZID:America/Chicago
BEGIN:DAYLIGHT
TZOFFSETFROM:-0600
TZOFFSETTO:-0500
DTSTART:20070311T020000
RRULE:FREQ=YEARLY;BYMONTH=3;BYDAY=2SU
TZNAME:CDT
END:DAYLIGHT
BEGIN:STANDARD
TZOFFSETFROM:-0500
TZOFFSETTO:-0600
DTSTART:20071104T020000
RRULE:FREQ=YEARLY;BYMONTH=11;BYDAY=1SU
TZNAME:CST
END:STANDARD
END:VTIMEZONE
BEGIN:VEVENT
UID:e19e9cb1-f3f2-43cd-a4a4-d887f626c180.234064@calendar.missouristate.edu
CREATED:20240126T165144Z
LAST-MODIFIED:20240126T165144Z
LOCATION:Plaster Student Union\, Robert W. 313
SUMMARY:Advisor Forum: Supporting Our Students: Success through Coaching\,
  Peer Mentoring and Bears Lead
DESCRIPTION:Facilitator: Dr. Kelly Wood\, associate vice president for stu
 dent success\n\n\nPresenters: Christina Bowles\, coordinator student succ
 ess coaches\, Center for Academic Success &amp; Transition\n\n\nDr. Tracey Gl
 aessgen\, associate director\, Center for Academic Success &amp; Transition\n
 \n\nAlaina Smith\, assistant director\, Access &amp; Success Programs\n\n\nTh
 e Center for Academic Success and Transition and Bears Lead support stude
 nts by empowering them to reach their academic\, personal and professiona
 l goals through coaching\, workshops and peer mentoring. Some of these ac
 tivities are supported by a Department of Education grant that began in f
 all 2020 to support first-generation student success. We’ll provide an up
 date on grant activities. Join us to learn more about these resources and
  how to refer students.
X-ALT-DESC;FMTTYPE=text/html:&lt;html&gt;&lt;head&gt;&lt;title&gt;&lt;/title&gt;&lt;/head&gt;&lt;body&gt;&lt;p&gt;Fa
 cilitator: Dr. Kelly Wood\, associate vice president for student success&lt;
 /p&gt;\n&lt;p&gt;Presenters: Christina Bowles\, coordinator student success coache
 s\, Center for Academic Success &amp;amp\; Transition&lt;/p&gt;\n&lt;p&gt;Dr. Tracey Glae
 ssgen\, associate director\, Center for Academic Success &amp;amp\; Transitio
 n&lt;/p&gt;\n&lt;p&gt;Alaina Smith\, assistant director\, Access &amp;amp\; Success Progr
 ams&lt;/p&gt;\n&lt;p&gt;The Center for Academic Success and Transition and Bears Lead
  support students by empowering them to reach their academic\, personal a
 nd professional goals through coaching\, workshops and peer mentoring. So
 me of these activities are supported by a Department of Education grant t
 hat began in fall 2020 to support first-generation student success. We’ll
  provide an update on grant activities. Join us to learn more about these
  resources and how to refer students.&lt;/p&gt;&lt;/body&gt;&lt;/html&gt;
DTSTART;TZID=America/Chicago:20240306T120000
DTEND;TZID=America/Chicago:20240306T130000
SEQUENCE:0
URL:122875.png
CATEGORIES:Faculty,Staff
END:VEVENT
END:VCALENDAR