BEGIN:VCALENDAR
VERSION:2.0
METHOD:PUBLISH
PRODID:-//Missouri State University/Calendar of Events//EN
CALSCALE:GREGORIAN
X-WR-TIMEZONE:America/Chicago
BEGIN:VTIMEZONE
TZID:America/Chicago
BEGIN:DAYLIGHT
TZOFFSETFROM:-0600
TZOFFSETTO:-0500
DTSTART:20070311T020000
RRULE:FREQ=YEARLY;BYMONTH=3;BYDAY=2SU
TZNAME:CDT
END:DAYLIGHT
BEGIN:STANDARD
TZOFFSETFROM:-0500
TZOFFSETTO:-0600
DTSTART:20071104T020000
RRULE:FREQ=YEARLY;BYMONTH=11;BYDAY=1SU
TZNAME:CST
END:STANDARD
END:VTIMEZONE
BEGIN:VEVENT
UID:1bccc178-8705-4fc6-aab4-6696d1690c3e.234065@calendar.missouristate.edu
CREATED:20240127T192217Z
LAST-MODIFIED:20240127T192217Z
LOCATION:Plaster Student Union\, Robert W. Union Club
SUMMARY:Kathy J. Davis Master Advisor Reception
DESCRIPTION:Coordinated by the Academic Advising &amp; Transfer Center\n\n\nCo
 me celebrate the 2024 Curtis P. Lawrence Excellence in Advising Award win
 ners. Executive Vice President Zora Mulligan\, Provost Dr. John Jasinski\
 , Associate Vice President for Student Success Dr. Kelly Wood and Academi
 c Advising and Transfer Center Director Ross Hawkins will give opening re
 marks on academic advising and the Master Advisor Program at Missouri Sta
 te University. We will also recognize the initial recipient of the Excell
 ence in Graduate Advising Award. This celebration is open to all advisors.
X-ALT-DESC;FMTTYPE=text/html:&lt;html&gt;&lt;head&gt;&lt;title&gt;&lt;/title&gt;&lt;/head&gt;&lt;body&gt;&lt;p&gt;Co
 ordinated by the Academic Advising &amp;amp\; Transfer Center&lt;/p&gt;\n&lt;p&gt;Come ce
 lebrate the 2024 Curtis P. Lawrence Excellence in Advising Award winners.
  Executive Vice President Zora Mulligan\, Provost Dr. John Jasinski\, Ass
 ociate Vice President for Student Success Dr. Kelly Wood and Academic Adv
 ising and Transfer Center Director Ross Hawkins will give opening remarks
  on academic advising and the Master Advisor Program at Missouri State Un
 iversity. We will also recognize the initial recipient of the Excellence 
 in Graduate Advising Award. This celebration is open to all advisors.&lt;/p&gt;
 &lt;/body&gt;&lt;/html&gt;
DTSTART;TZID=America/Chicago:20240319T160000
DTEND;TZID=America/Chicago:20240319T170000
SEQUENCE:0
URL:122876.png
CATEGORIES:Faculty,Staff
END:VEVENT
END:VCALENDAR