BEGIN:VCALENDAR
VERSION:2.0
METHOD:PUBLISH
PRODID:-//Missouri State University/Calendar of Events//EN
CALSCALE:GREGORIAN
X-WR-TIMEZONE:America/Chicago
BEGIN:VTIMEZONE
TZID:America/Chicago
BEGIN:DAYLIGHT
TZOFFSETFROM:-0600
TZOFFSETTO:-0500
DTSTART:20070311T020000
RRULE:FREQ=YEARLY;BYMONTH=3;BYDAY=2SU
TZNAME:CDT
END:DAYLIGHT
BEGIN:STANDARD
TZOFFSETFROM:-0500
TZOFFSETTO:-0600
DTSTART:20071104T020000
RRULE:FREQ=YEARLY;BYMONTH=11;BYDAY=1SU
TZNAME:CST
END:STANDARD
END:VTIMEZONE
BEGIN:VEVENT
UID:22fc1c46-b746-44e4-826b-2801adc5544d.234066@calendar.missouristate.edu
CREATED:20240126T165623Z
LAST-MODIFIED:20240126T165623Z
LOCATION:Plaster Student Union\, Robert W. 313
SUMMARY:Advisor Forum: A New Advising Tool: Pathways to Healthcare Profess
 ions Handbook
DESCRIPTION:Facilitator: Ross Hawkins\, director\, Academic Advising &amp; Tra
 nsfer Center\n\n\nPanelists: Hillary Mayes\, director\, MCHHS Student Suc
 cess &amp; Advisement Center\n\n\nDr. Matthew Siebert\, associate professor\,
  Chemistry &amp; Biochemistry\n\n\nIndigo Tran\, academic advisor\, marketing
 \, recruitment &amp; retention specialist\, CNAS\n\n\nDr. Scott Wallentine\, 
 associate professor\, Physical Therapy\n\n\nThis panel session will intro
 duce the new “Pathways to Healthcare Professions” Handbook to the advisin
 g community. The committee members who developed the handbook will serve 
 as panelists to explain how there are numerous academic options for many 
 of the pre-professional programs at the university. Insight will be provi
 ded on how to help any student who expresses interest in a healthcare pro
 fession.
X-ALT-DESC;FMTTYPE=text/html:&lt;html&gt;&lt;head&gt;&lt;title&gt;&lt;/title&gt;&lt;/head&gt;&lt;body&gt;&lt;p&gt;Fa
 cilitator: Ross Hawkins\, director\, Academic Advising &amp;amp\; Transfer Ce
 nter&lt;/p&gt;\n&lt;p&gt;Panelists: Hillary Mayes\, director\, MCHHS Student Success 
 &amp;amp\; Advisement Center&lt;/p&gt;\n&lt;p&gt;Dr. Matthew Siebert\, associate professo
 r\, Chemistry &amp;amp\; Biochemistry&lt;/p&gt;\n&lt;p&gt;Indigo Tran\, academic advisor\
 , marketing\, recruitment &amp;amp\; retention specialist\, CNAS&lt;/p&gt;\n&lt;p&gt;Dr. 
 Scott Wallentine\, associate professor\, Physical Therapy&lt;/p&gt;\n&lt;p&gt;This pa
 nel session will introduce the new “Pathways to Healthcare Professions” H
 andbook to the advising community. The committee members who developed th
 e handbook will serve as panelists to explain how there are numerous acad
 emic options for many of the pre-professional programs at the university.
  Insight will be provided on how to help any student who expresses intere
 st in a healthcare profession.&lt;/p&gt;&lt;/body&gt;&lt;/html&gt;
DTSTART;TZID=America/Chicago:20240320T120000
DTEND;TZID=America/Chicago:20240320T130000
SEQUENCE:0
URL:122877.png
CATEGORIES:Faculty,Staff
END:VEVENT
END:VCALENDAR