BEGIN:VCALENDAR
VERSION:2.0
METHOD:PUBLISH
PRODID:-//Missouri State University/Calendar of Events//EN
CALSCALE:GREGORIAN
X-WR-TIMEZONE:America/Chicago
BEGIN:VTIMEZONE
TZID:America/Chicago
BEGIN:DAYLIGHT
TZOFFSETFROM:-0600
TZOFFSETTO:-0500
DTSTART:20070311T020000
RRULE:FREQ=YEARLY;BYMONTH=3;BYDAY=2SU
TZNAME:CDT
END:DAYLIGHT
BEGIN:STANDARD
TZOFFSETFROM:-0500
TZOFFSETTO:-0600
DTSTART:20071104T020000
RRULE:FREQ=YEARLY;BYMONTH=11;BYDAY=1SU
TZNAME:CST
END:STANDARD
END:VTIMEZONE
BEGIN:VEVENT
UID:d37e53aa-f93d-438c-8fdd-2b779a697278.234067@calendar.missouristate.edu
CREATED:20240126T165702Z
LAST-MODIFIED:20240126T165702Z
LOCATION:
SUMMARY:Advisor Forum: Advising Graduate Students: Policies &amp; Practices fo
 r Grad Degree Completion
DESCRIPTION:Presenters: Dr. Carrisa Hoelscher\, associate dean\, Graduate 
 College\n\n\nIn this session\, we will discuss a variety of best practice
 s for advising graduate students toward degree completion. Topics will in
 clude mixed credit for accelerated students\, transfer credit\, culminati
 ng assessments (e.g. comprehensive exams)\, research requirements and mor
 e. We know many of these graduate-specific practices and policies are com
 plex\, so we look forward to giving you our top tips for the more detaile
 d processes.
X-ALT-DESC;FMTTYPE=text/html:&lt;html&gt;&lt;head&gt;&lt;title&gt;&lt;/title&gt;&lt;/head&gt;&lt;body&gt;&lt;p&gt;Pr
 esenters: Dr. Carrisa Hoelscher\, associate dean\, Graduate College&lt;/p&gt;\n
 &lt;p&gt;In this session\, we will discuss a variety of best practices for advi
 sing graduate students toward degree completion. Topics will include mixe
 d credit for accelerated students\, transfer credit\, culminating assessm
 ents (e.g. comprehensive exams)\, research requirements and more. We know
  many of these graduate-specific practices and policies are complex\, so 
 we look forward to giving you our top tips for the more detailed processe
 s.&lt;/p&gt;&lt;/body&gt;&lt;/html&gt;
DTSTART;TZID=America/Chicago:20240325T120000
DTEND;TZID=America/Chicago:20240325T130000
SEQUENCE:1
URL:122878.png
CATEGORIES:Faculty,Staff
END:VEVENT
END:VCALENDAR