BEGIN:VCALENDAR
VERSION:2.0
METHOD:PUBLISH
PRODID:-//Missouri State University/Calendar of Events//EN
CALSCALE:GREGORIAN
X-WR-TIMEZONE:America/Chicago
BEGIN:VTIMEZONE
TZID:America/Chicago
BEGIN:DAYLIGHT
TZOFFSETFROM:-0600
TZOFFSETTO:-0500
DTSTART:20070311T020000
RRULE:FREQ=YEARLY;BYMONTH=3;BYDAY=2SU
TZNAME:CDT
END:DAYLIGHT
BEGIN:STANDARD
TZOFFSETFROM:-0500
TZOFFSETTO:-0600
DTSTART:20071104T020000
RRULE:FREQ=YEARLY;BYMONTH=11;BYDAY=1SU
TZNAME:CST
END:STANDARD
END:VTIMEZONE
BEGIN:VEVENT
UID:fc1fbdf9-2630-4d8f-a7c3-58a93547750a.234068@calendar.missouristate.edu
CREATED:20240126T165741Z
LAST-MODIFIED:20240126T165741Z
LOCATION:
SUMMARY:Advisor Forum: Using Proactive Advising &amp; Academic Planning to Bet
 ter Serve Our Advisees
DESCRIPTION:Presenter: Karmen Ketchum-Brewer\, academic advisor/retention 
 specialist\, Business Advisement Center\n\n\nStudents run into all types 
 of roadblocks when pursuing their academic goals. As advisors\, we can pr
 oactively provide them with resources and a plan to help them achieve tho
 se goals. This session will look at ways the College of Business has foun
 d to better prepare our students to help meet those expectations.
X-ALT-DESC;FMTTYPE=text/html:&lt;html&gt;&lt;head&gt;&lt;title&gt;&lt;/title&gt;&lt;/head&gt;&lt;body&gt;&lt;p&gt;Pr
 esenter: Karmen Ketchum-Brewer\, academic advisor/retention specialist\, 
 Business Advisement Center&lt;/p&gt;\n&lt;p&gt;Students run into all types of roadblo
 cks when pursuing their academic goals. As advisors\, we can proactively 
 provide them with resources and a plan to help them achieve those goals. 
 This session will look at ways the College of Business has found to bette
 r prepare our students to help meet those expectations.&lt;/p&gt;&lt;/body&gt;&lt;/html&gt;
DTSTART;TZID=America/Chicago:20240501T120000
DTEND;TZID=America/Chicago:20240501T130000
SEQUENCE:1
URL:122879.png
CATEGORIES:Faculty,Staff
END:VEVENT
END:VCALENDAR