BEGIN:VCALENDAR
VERSION:2.0
METHOD:PUBLISH
PRODID:-//Missouri State University/Calendar of Events//EN
CALSCALE:GREGORIAN
X-WR-TIMEZONE:America/Chicago
BEGIN:VTIMEZONE
TZID:America/Chicago
BEGIN:DAYLIGHT
TZOFFSETFROM:-0600
TZOFFSETTO:-0500
DTSTART:20070311T020000
RRULE:FREQ=YEARLY;BYMONTH=3;BYDAY=2SU
TZNAME:CDT
END:DAYLIGHT
BEGIN:STANDARD
TZOFFSETFROM:-0500
TZOFFSETTO:-0600
DTSTART:20071104T020000
RRULE:FREQ=YEARLY;BYMONTH=11;BYDAY=1SU
TZNAME:CST
END:STANDARD
END:VTIMEZONE
BEGIN:VEVENT
UID:b9b01bdd-e29f-48d6-8c1b-6b6e33da8c2f.234070@calendar.missouristate.edu
CREATED:20240126T155730Z
LAST-MODIFIED:20240126T155730Z
LOCATION:Missouri State North Mall
SUMMARY:The Standard's annual Housing Expo
DESCRIPTION:Presented by The Standard\, MSU's student-run news organizatio
 n.\n\n\nRepresentatives from property management companies will be on han
 d to meet with students to talk about on- and off-campus housing options 
 for the upcoming school year. \n\n\nThe Housing Expo will take place on t
 he North Mall\, by the Bear Statue next to the Plaster Student Union.\n\n
 \nIn the event of inclement weather\, the Housing Expo will be reschedule
 d for March 20\, 2024.
X-ALT-DESC;FMTTYPE=text/html:&lt;html&gt;&lt;head&gt;&lt;title&gt;&lt;/title&gt;&lt;/head&gt;&lt;body&gt;&lt;p&gt;Pr
 esented by The Standard\, MSU's student-run news organization.&lt;/p&gt;\n&lt;p&gt;Re
 presentatives from property management companies will be on hand to meet 
 with students to talk about on- and off-campus housing options for the up
 coming school year.&amp;nbsp\;&lt;/p&gt;\n&lt;p&gt;The Housing Expo will take place on th
 e North Mall\, by the Bear Statue next to the Plaster Student Union.&lt;/p&gt;\
 n&lt;p&gt;In the event of inclement weather\, the&amp;nbsp\;Housing Expo will be re
 scheduled for March 20\, 2024.&lt;/p&gt;&lt;/body&gt;&lt;/html&gt;
DTSTART;TZID=America/Chicago:20240306T100000
DTEND;TZID=America/Chicago:20240306T140000
SEQUENCE:0
URL:https://www.the-standard.org/
CATEGORIES:Public,Alumni,Current Students,Faculty,Future Students,Staff
END:VEVENT
END:VCALENDAR