BEGIN:VCALENDAR
VERSION:2.0
METHOD:PUBLISH
PRODID:-//Missouri State University/Calendar of Events//EN
CALSCALE:GREGORIAN
X-WR-TIMEZONE:America/Chicago
BEGIN:VTIMEZONE
TZID:America/Chicago
BEGIN:DAYLIGHT
TZOFFSETFROM:-0600
TZOFFSETTO:-0500
DTSTART:20070311T020000
RRULE:FREQ=YEARLY;BYMONTH=3;BYDAY=2SU
TZNAME:CDT
END:DAYLIGHT
BEGIN:STANDARD
TZOFFSETFROM:-0500
TZOFFSETTO:-0600
DTSTART:20071104T020000
RRULE:FREQ=YEARLY;BYMONTH=11;BYDAY=1SU
TZNAME:CST
END:STANDARD
END:VTIMEZONE
BEGIN:VEVENT
UID:4f3e912a-294d-4e69-94ef-1474dd7693d3.234077@calendar.missouristate.edu
CREATED:20240126T195312Z
LAST-MODIFIED:20240126T195312Z
LOCATION:
SUMMARY:Public Affairs Mission - What Does It Mean? Can You Relate? Virtua
 l Workshop
DESCRIPTION:Explore the history of the university's public affairs mission
  and how to become a more engaged Citizen Bear by modeling the three pill
 ars of the public affairs mission. As the university is educating student
 s to become global scholars\, it is imperative that employees can communi
 cate\, interconnect and promote the meaning of public affairs to students
  and the community.\n\n\nFacilitator: Mary Ann Wood
X-ALT-DESC;FMTTYPE=text/html:&lt;html&gt;&lt;head&gt;&lt;title&gt;&lt;/title&gt;&lt;/head&gt;&lt;body&gt;&lt;p&gt;&lt;s
 pan&gt;&lt;span&gt;Explore the history of the university's public affairs mission 
 and how to become a more engaged Citizen Bear by modeling the three pilla
 rs of the public affairs mission. As the university is educating students
  to become global scholars\, it is imperative that employees can communic
 ate\, interconnect and promote the meaning of public affairs to students 
 and the community.&lt;/span&gt;&lt;/span&gt;&lt;/p&gt;\n&lt;p&gt;&lt;span&gt;&lt;b&gt;&lt;span&gt;Facilitator:&lt;/spa
 n&gt;&lt;/b&gt;&lt;/span&gt;&lt;span&gt;&lt;span&gt; Mary Ann Wood&lt;/span&gt;&lt;/span&gt;&lt;/p&gt;&lt;/body&gt;&lt;/html&gt;
DTSTART;TZID=America/Chicago:20240229T130000
DTEND;TZID=America/Chicago:20240229T140000
SEQUENCE:0
URL:https://blogs.missouristate.edu/human/2024/01/25/lead-yourself-with-ou
 r-power-skills-series-this-spring/
CATEGORIES:Faculty,Staff
END:VEVENT
END:VCALENDAR