BEGIN:VCALENDAR
VERSION:2.0
METHOD:PUBLISH
PRODID:-//Missouri State University/Calendar of Events//EN
CALSCALE:GREGORIAN
X-WR-TIMEZONE:America/Chicago
BEGIN:VTIMEZONE
TZID:America/Chicago
BEGIN:DAYLIGHT
TZOFFSETFROM:-0600
TZOFFSETTO:-0500
DTSTART:20070311T020000
RRULE:FREQ=YEARLY;BYMONTH=3;BYDAY=2SU
TZNAME:CDT
END:DAYLIGHT
BEGIN:STANDARD
TZOFFSETFROM:-0500
TZOFFSETTO:-0600
DTSTART:20071104T020000
RRULE:FREQ=YEARLY;BYMONTH=11;BYDAY=1SU
TZNAME:CST
END:STANDARD
END:VTIMEZONE
BEGIN:VEVENT
UID:54d7d110-1f59-463a-b029-29a2a5d2cb32.234087@calendar.missouristate.edu
CREATED:20240228T143122Z
LAST-MODIFIED:20240228T143122Z
LOCATION:Plaster Student Union\, Robert W. Theater
SUMMARY:Presidential Candidate Open Forum: Dr. John Jasinski
DESCRIPTION:Please join us for a Presidential Candidate Open Forum with Dr
 . John Jasinski.\n\n\nThis event will also be live streamed via Zoom. \n\
 n\nLive captioning will be available. 
X-ALT-DESC;FMTTYPE=text/html:&lt;html&gt;&lt;head&gt;&lt;title&gt;&lt;/title&gt;&lt;/head&gt;&lt;body&gt;&lt;p&gt;Pl
 ease join us for a Presidential Candidate Open Forum with &lt;a href="https:
 //www.missouristate.edu/President/Search/j-jasinski.htm"&gt;Dr. John Jasinsk
 i&lt;/a&gt;.&lt;/p&gt;\n&lt;p&gt;&lt;a href="https://us02web.zoom.us/j/81739711792"&gt;This event
  will also be live streamed via Zoom&lt;/a&gt;.&amp;nbsp\;&lt;/p&gt;\n&lt;p&gt;Live captioning 
 will be available.&amp;nbsp\;&lt;/p&gt;&lt;/body&gt;&lt;/html&gt;
DTSTART;TZID=America/Chicago:20240227T143000
DTEND;TZID=America/Chicago:20240227T153000
SEQUENCE:0
URL:https://www.missouristate.edu/President/Search/default.htm
CATEGORIES:Public,Alumni,Current Students,Faculty,Future Students,Staff
END:VEVENT
END:VCALENDAR