BEGIN:VCALENDAR
VERSION:2.0
METHOD:PUBLISH
PRODID:-//Missouri State University/Calendar of Events//EN
CALSCALE:GREGORIAN
X-WR-TIMEZONE:America/Chicago
BEGIN:VTIMEZONE
TZID:America/Chicago
BEGIN:DAYLIGHT
TZOFFSETFROM:-0600
TZOFFSETTO:-0500
DTSTART:20070311T020000
RRULE:FREQ=YEARLY;BYMONTH=3;BYDAY=2SU
TZNAME:CDT
END:DAYLIGHT
BEGIN:STANDARD
TZOFFSETFROM:-0500
TZOFFSETTO:-0600
DTSTART:20071104T020000
RRULE:FREQ=YEARLY;BYMONTH=11;BYDAY=1SU
TZNAME:CST
END:STANDARD
END:VTIMEZONE
BEGIN:VEVENT
UID:f8614679-d75b-427b-abab-d8cd774bd6bf_11127@calendar.missouristate.edu
CREATED:20240222T153500Z
LAST-MODIFIED:20240222T153500Z
LOCATION:Plaster Free Enterprise Center\, Robert W.
SUMMARY:Early-Stage Business Boot Camp - Greene County
DESCRIPTION: Are you an aspiring or early-stage small business owner? The 
 Early-Stage Business Boot Camp helps entrepreneurs look at all aspects of
  their business\, explore the feasibility of a new business venture and l
 earn how to develop a viable business model.During this fast-paced\, inte
 ractive\, fun and energizing program\, attendees will discover the best p
 ractices\, talk through real-life examples and learn about valuable local
  resources designed to help small businesses grow. This multi-session Boo
 t Camp is an accelerated program that helps build your foundational busin
 ess knowledge and jumpstart your new business. This program was developed
  by the Missouri SBDC at Missouri State University and it is powered by I
 nnovate SOMO\, led by Codefi and efactory.Participants of the program wil
 l receive ongoing coaching and mentoring to develop a growth plan and fin
 ancial budget by the end of the program. Guest speakers and visiting entr
 epreneurs will bring their real-world experience to make the program topi
 cs come alive.
X-ALT-DESC;FMTTYPE=text/html:&lt;html&gt;&lt;head&gt;&lt;title&gt;&lt;/title&gt;&lt;/head&gt;&lt;body&gt;&lt;p&gt;&lt;s
 pan&gt;&amp;nbsp\;Are you an aspiring or early-stage small business owner? The E
 arly-Stage Business Boot Camp helps entrepreneurs look at all aspects of 
 their business\, explore the feasibility of a new business venture and le
 arn how to develop a viable business model.&lt;br&gt;&lt;br&gt;During this fast-paced
 \, interactive\, fun and energizing program\, attendees will discover the
  best practices\, talk through real-life examples and learn about valuabl
 e local resources designed to help small businesses grow. This multi-sess
 ion Boot Camp is an accelerated program that helps build your foundationa
 l business knowledge and jumpstart your new business. This program was de
 veloped by the Missouri SBDC at Missouri State University and it is power
 ed by Innovate SOMO\, led by Codefi and efactory.&lt;br&gt;&lt;br&gt;Participants of 
 the program will receive ongoing coaching and mentoring to develop a grow
 th plan and financial budget by the end of the program. Guest speakers an
 d visiting entrepreneurs will bring their real-world experience to make t
 he program topics come alive.&lt;/span&gt;&lt;/p&gt;&lt;/body&gt;&lt;/html&gt;
DTSTART;TZID=America/Chicago:20240319T173000
DTEND;TZID=America/Chicago:20240319T200000
RRULE:FREQ=WEEKLY;BYDAY=MO;UNTIL=20240508
SEQUENCE:0
URL:https://missouri.ecenterdirect.com/events/25045
CATEGORIES:Public
END:VEVENT
END:VCALENDAR