BEGIN:VCALENDAR
VERSION:2.0
METHOD:PUBLISH
PRODID:-//Missouri State University/Calendar of Events//EN
CALSCALE:GREGORIAN
X-WR-TIMEZONE:America/Chicago
BEGIN:VTIMEZONE
TZID:America/Chicago
BEGIN:DAYLIGHT
TZOFFSETFROM:-0600
TZOFFSETTO:-0500
DTSTART:20070311T020000
RRULE:FREQ=YEARLY;BYMONTH=3;BYDAY=2SU
TZNAME:CDT
END:DAYLIGHT
BEGIN:STANDARD
TZOFFSETFROM:-0500
TZOFFSETTO:-0600
DTSTART:20071104T020000
RRULE:FREQ=YEARLY;BYMONTH=11;BYDAY=1SU
TZNAME:CST
END:STANDARD
END:VTIMEZONE
BEGIN:VEVENT
UID:d1e4654b-2bf2-4053-95cc-8454afe8ab6c.234104@calendar.missouristate.edu
CREATED:20240222T153318Z
LAST-MODIFIED:20240222T153318Z
LOCATION:Plaster Free Enterprise Center\, Robert W.
SUMMARY:Energy Leadership - Manage Your Energy\, Not Your Time
DESCRIPTION:What's Really Getting in Your Way?How Can I Become a Better Le
 ader?How Do I Reach My Goals with Ease?How Can I Be More Engaged at Work?
 What Can I Do to Not Feel So Stressed?\n\n\nEnergy Leadership is a proces
 s that develops and supports a personally effective style of leadership t
 hat positively influences and changes not only yourself\, but your co-wor
 kers and employees.\n\n\nThis session will teach you how to understand th
 e most important personal resource of all — your energy!
X-ALT-DESC;FMTTYPE=text/html:&lt;html&gt;&lt;head&gt;&lt;title&gt;&lt;/title&gt;&lt;/head&gt;&lt;body&gt;&lt;p&gt;&lt;i
 &gt;What's Really Getting in Your Way?&lt;/i&gt;&lt;br&gt;&lt;i&gt;How Can I Become a Better L
 eader?&lt;br&gt;&lt;/i&gt;&lt;span&gt;&lt;/span&gt;&lt;i&gt;How Do I Reach My Goals with Ease?&lt;br&gt;&lt;/i&gt;&lt;
 span&gt;&lt;/span&gt;&lt;i&gt;How Can I Be More Engaged at Work?&lt;br&gt;&lt;/i&gt;&lt;span&gt;&lt;/span&gt;&lt;i&gt;
 What Can I Do to Not Feel So Stressed?&lt;/i&gt;&lt;/p&gt;\n&lt;p&gt;&lt;span&gt;Energy Leadershi
 p is a process that develops and supports a personally effective style of
  leadership that positively influences and changes not only yourself\, bu
 t your co-workers and employees.&lt;/span&gt;&lt;/p&gt;\n&lt;p&gt;&lt;span&gt;This session will t
 each you how to understand the most important personal resource of all — 
 your energy!&lt;/span&gt;&lt;/p&gt;&lt;/body&gt;&lt;/html&gt;
DTSTART;TZID=America/Chicago:20240321T090000
DTEND;TZID=America/Chicago:20240321T160000
SEQUENCE:0
URL:https://missouri.ecenterdirect.com/events/25044
CATEGORIES:Public
END:VEVENT
END:VCALENDAR