BEGIN:VCALENDAR
VERSION:2.0
METHOD:PUBLISH
PRODID:-//Missouri State University/Calendar of Events//EN
CALSCALE:GREGORIAN
X-WR-TIMEZONE:America/Chicago
BEGIN:VTIMEZONE
TZID:America/Chicago
BEGIN:DAYLIGHT
TZOFFSETFROM:-0600
TZOFFSETTO:-0500
DTSTART:20070311T020000
RRULE:FREQ=YEARLY;BYMONTH=3;BYDAY=2SU
TZNAME:CDT
END:DAYLIGHT
BEGIN:STANDARD
TZOFFSETFROM:-0500
TZOFFSETTO:-0600
DTSTART:20071104T020000
RRULE:FREQ=YEARLY;BYMONTH=11;BYDAY=1SU
TZNAME:CST
END:STANDARD
END:VTIMEZONE
BEGIN:VEVENT
UID:52a45772-6a6f-4147-a024-3ca7dc6fc36a.234105@calendar.missouristate.edu
CREATED:20240127T234932Z
LAST-MODIFIED:20240127T234932Z
LOCATION:Meyer Library\, Duane G. 101
SUMMARY:Dr. Maurice D. Gipson: "The Black Power Movement in Arkansas"
DESCRIPTION:Dr. Maurice D. Gipson\, University of Missouri-Columbia\, will
  present a lecture titled "Black Dirt\, Black People and Black Power: The
  Radical Road to Freedom in Arkansas."\n\n\nGipson will share some of the
  heretofore untold stories of activists that demanded radical change in A
 rkansas by embracing Black Power as an organizing philosophy.
X-ALT-DESC;FMTTYPE=text/html:&lt;html&gt;&lt;head&gt;&lt;title&gt;&lt;/title&gt;&lt;/head&gt;&lt;body&gt;&lt;p&gt;Dr
 . Maurice D. Gipson\, University of Missouri-Columbia\, will present a le
 cture titled "Black Dirt\, Black People and Black Power: The Radical Road
  to Freedom in Arkansas."&lt;/p&gt;\n&lt;p&gt;Gipson will share some of the heretofor
 e untold stories of activists that demanded radical change in Arkansas by
  embracing Black Power as an organizing philosophy.&lt;/p&gt;&lt;/body&gt;&lt;/html&gt;
DTSTART;TZID=America/Chicago:20240207T173000
DTEND;TZID=America/Chicago:20240207T190000
SEQUENCE:0
URL:
CATEGORIES:Public,Alumni,Current Students,Faculty,Staff
END:VEVENT
END:VCALENDAR