BEGIN:VCALENDAR
VERSION:2.0
METHOD:PUBLISH
PRODID:-//Missouri State University/Calendar of Events//EN
CALSCALE:GREGORIAN
X-WR-TIMEZONE:America/Chicago
BEGIN:VTIMEZONE
TZID:America/Chicago
BEGIN:DAYLIGHT
TZOFFSETFROM:-0600
TZOFFSETTO:-0500
DTSTART:20070311T020000
RRULE:FREQ=YEARLY;BYMONTH=3;BYDAY=2SU
TZNAME:CDT
END:DAYLIGHT
BEGIN:STANDARD
TZOFFSETFROM:-0500
TZOFFSETTO:-0600
DTSTART:20071104T020000
RRULE:FREQ=YEARLY;BYMONTH=11;BYDAY=1SU
TZNAME:CST
END:STANDARD
END:VTIMEZONE
BEGIN:VEVENT
UID:53a76131-6ef1-46a5-a752-b1ed521c8167.234106@calendar.missouristate.edu
CREATED:20240222T155459Z
LAST-MODIFIED:20240222T155459Z
LOCATION:Plaster Free Enterprise Center\, Robert W.
SUMMARY:Promoting Your Business to Government Buyers
DESCRIPTION:The Missouri APEX Accelerator program is designed to help you 
 identify opportunities and understand the contracting process so you can 
 take advantage of government sales dollars. Allen Waldo from Missouri APE
 X Accelerator will teach you how to position yourself to win contracts wi
 th state and federal government agencies. Additionally\, APEX Accelerator
  counselors will assist with SAM Registration\, which is free.Topics to b
 e covered include:\n\n\n\nBasic Marketing including websites\, etc.\nCapa
 bility Statements\nNetworking Events\nSolicitations including Q &amp; A\nPast
  Awarded Contracts including GSA Research\n\nThere is no fee for this pro
 gram\, but pre-registration is required.
X-ALT-DESC;FMTTYPE=text/html:&lt;html&gt;&lt;head&gt;&lt;title&gt;&lt;/title&gt;&lt;/head&gt;&lt;body&gt;&lt;p&gt;&lt;s
 pan&gt;The Missouri APEX Accelerator program is designed to help you identif
 y opportunities and understand the contracting process so you can take ad
 vantage of government sales dollars. Allen Waldo from Missouri APEX Accel
 erator will teach you how to position yourself to win contracts with stat
 e and federal government agencies. Additionally\, APEX Accelerator counse
 lors will assist with SAM Registration\, which is free.&lt;/span&gt;&lt;br&gt;&lt;br&gt;&lt;sp
 an&gt;Topics to be covered include:&lt;/span&gt;&lt;/p&gt;\n&lt;ul&gt;\n&lt;li&gt;&lt;span&gt;Basic Market
 ing including websites\, etc.&lt;/span&gt;&lt;/li&gt;\n&lt;li&gt;&lt;span&gt;Capability Statement
 s&lt;/span&gt;&lt;/li&gt;\n&lt;li&gt;&lt;span&gt;Networking Events&lt;/span&gt;&lt;/li&gt;\n&lt;li&gt;&lt;span&gt;Solicit
 ations including Q &amp;amp\; A&lt;/span&gt;&lt;/li&gt;\n&lt;li&gt;&lt;span&gt;Past Awarded Contracts
  including GSA Research&lt;/span&gt;&lt;/li&gt;\n&lt;/ul&gt;\n&lt;p&gt;&lt;span&gt;There is no fee for 
 this program\, but pre-registration is required.&lt;/span&gt;&lt;/p&gt;&lt;/body&gt;&lt;/html&gt;
DTSTART;TZID=America/Chicago:20240403T090000
DTEND;TZID=America/Chicago:20240403T110000
SEQUENCE:0
URL:https://missouri.ecenterdirect.com/events/25031
CATEGORIES:Public
END:VEVENT
END:VCALENDAR