BEGIN:VCALENDAR
VERSION:2.0
METHOD:PUBLISH
PRODID:-//Missouri State University/Calendar of Events//EN
CALSCALE:GREGORIAN
X-WR-TIMEZONE:America/Chicago
BEGIN:VTIMEZONE
TZID:America/Chicago
BEGIN:DAYLIGHT
TZOFFSETFROM:-0600
TZOFFSETTO:-0500
DTSTART:20070311T020000
RRULE:FREQ=YEARLY;BYMONTH=3;BYDAY=2SU
TZNAME:CDT
END:DAYLIGHT
BEGIN:STANDARD
TZOFFSETFROM:-0500
TZOFFSETTO:-0600
DTSTART:20071104T020000
RRULE:FREQ=YEARLY;BYMONTH=11;BYDAY=1SU
TZNAME:CST
END:STANDARD
END:VTIMEZONE
BEGIN:VEVENT
UID:96c37ce5-6cce-4c6c-b94f-3457ddd19d18.234107@calendar.missouristate.edu
CREATED:20240222T152340Z
LAST-MODIFIED:20240222T152340Z
LOCATION:Plaster Free Enterprise Center\, Robert W.
SUMMARY:Managing People\, Processes and Projects
DESCRIPTION:Do you have more to do than you can manage in a 40-hour work w
 eek?Do you feel that if you want something done right you have to do it y
 ourself?Do you find yourself having to “redo” work not done right the fir
 st time?If you answered yes to these questions\, you could be holding you
 rself\, your employees and your work group back from reaching maximum pot
 ential. By attending this seminar\, you will learn how to improve your sk
 ills in delegation\, time management and goal-setting so you can work mor
 e efficiently and effectively. You will feel more confident in knowing ho
 w to organize your work and examine your workload for value-adding qualit
 ies.
X-ALT-DESC;FMTTYPE=text/html:&lt;html&gt;&lt;head&gt;&lt;title&gt;&lt;/title&gt;&lt;/head&gt;&lt;body&gt;&lt;p&gt;&lt;s
 pan&gt;Do you have more to do than you can manage in a 40-hour work week?&lt;/s
 pan&gt;&lt;br&gt;&lt;br&gt;&lt;span&gt;Do you feel that if you want something done right you h
 ave to do it yourself?&lt;/span&gt;&lt;br&gt;&lt;br&gt;&lt;span&gt;Do you find yourself having to
  “redo” work not done right the first time?&lt;/span&gt;&lt;br&gt;&lt;br&gt;&lt;span&gt;If you an
 swered yes to these questions\, you could be holding yourself\, your empl
 oyees and your work group back from reaching maximum potential. By attend
 ing this seminar\, you will learn how to improve your skills in delegatio
 n\, time management and goal-setting so you can work more efficiently and
  effectively.&amp;nbsp\;&lt;/span&gt;&lt;span&gt;You will feel more confident in knowing 
 how to organize your work and examine your workload for value-adding qual
 ities.&lt;/span&gt;&lt;/p&gt;&lt;/body&gt;&lt;/html&gt;
DTSTART;TZID=America/Chicago:20240404T090000
DTEND;TZID=America/Chicago:20240404T160000
SEQUENCE:0
URL:https://missouri.ecenterdirect.com/events/25030
CATEGORIES:Public
END:VEVENT
END:VCALENDAR