BEGIN:VCALENDAR
VERSION:2.0
METHOD:PUBLISH
PRODID:-//Missouri State University/Calendar of Events//EN
CALSCALE:GREGORIAN
X-WR-TIMEZONE:America/Chicago
BEGIN:VTIMEZONE
TZID:America/Chicago
BEGIN:DAYLIGHT
TZOFFSETFROM:-0600
TZOFFSETTO:-0500
DTSTART:20070311T020000
RRULE:FREQ=YEARLY;BYMONTH=3;BYDAY=2SU
TZNAME:CDT
END:DAYLIGHT
BEGIN:STANDARD
TZOFFSETFROM:-0500
TZOFFSETTO:-0600
DTSTART:20071104T020000
RRULE:FREQ=YEARLY;BYMONTH=11;BYDAY=1SU
TZNAME:CST
END:STANDARD
END:VTIMEZONE
BEGIN:VEVENT
UID:cbcef454-9688-4a6b-9c87-d38dd5fc0e18.234108@calendar.missouristate.edu
CREATED:20240222T155534Z
LAST-MODIFIED:20240222T155534Z
LOCATION:Plaster Free Enterprise Center\, Robert W.
SUMMARY:Build Your Business with Reference Solutions
DESCRIPTION:Andra Roussel of Reference Solutions will provide an overview 
 of Reference Solutions by Data Axle\, the leading source for business and
  residential data in the United States\, an online resource free to use w
 ith a Springfield-Greene County library card. Learn how Reference Solutio
 ns can help you gather data on millions of U.S. businesses and consumers 
 and generate sales leads\, marketing and mailing lists.
X-ALT-DESC;FMTTYPE=text/html:&lt;html&gt;&lt;head&gt;&lt;title&gt;&lt;/title&gt;&lt;/head&gt;&lt;body&gt;&lt;p&gt;&lt;s
 pan&gt;Andra Roussel of Reference Solutions will provide an overview of Refe
 rence Solutions by Data Axle\, the leading source for business and reside
 ntial data in the United States\, an online resource free to use with a S
 pringfield-Greene County library card. Learn how Reference Solutions can 
 help you gather data on millions of U.S. businesses and consumers and gen
 erate sales leads\, marketing and mailing lists.&lt;/span&gt;&lt;/p&gt;&lt;/body&gt;&lt;/html&gt;
DTSTART;TZID=America/Chicago:20240408T140000
DTEND;TZID=America/Chicago:20240408T153000
SEQUENCE:0
URL:https://missouri.ecenterdirect.com/events/25043
CATEGORIES:Public
END:VEVENT
END:VCALENDAR