BEGIN:VCALENDAR
VERSION:2.0
METHOD:PUBLISH
PRODID:-//Missouri State University/Calendar of Events//EN
CALSCALE:GREGORIAN
X-WR-TIMEZONE:America/Chicago
BEGIN:VTIMEZONE
TZID:America/Chicago
BEGIN:DAYLIGHT
TZOFFSETFROM:-0600
TZOFFSETTO:-0500
DTSTART:20070311T020000
RRULE:FREQ=YEARLY;BYMONTH=3;BYDAY=2SU
TZNAME:CDT
END:DAYLIGHT
BEGIN:STANDARD
TZOFFSETFROM:-0500
TZOFFSETTO:-0600
DTSTART:20071104T020000
RRULE:FREQ=YEARLY;BYMONTH=11;BYDAY=1SU
TZNAME:CST
END:STANDARD
END:VTIMEZONE
BEGIN:VEVENT
UID:e336370d-15e3-44c7-8ce5-5e5716e52429.234111@calendar.missouristate.edu
CREATED:20240130T163910Z
LAST-MODIFIED:20240130T163910Z
LOCATION:
SUMMARY:Effective Listening Virtual Workshop
DESCRIPTION:We have one mouth and two ears—that suggests we should listen 
 more than we talk! Most of us think we are good listeners\, but the resea
 rch suggests otherwise. And yet\, good listeners have deeper\, stronger a
 nd better relationships at work\, at home and with friends. This workshop
  will explain why listening is important\, help you figure out what type 
 of listener you are and teach you the necessary skills to become a more e
 ffective listener.\n\n\nFacilitated by Gloria Galanes\, MSU dean emeritus
X-ALT-DESC;FMTTYPE=text/html:&lt;html&gt;&lt;head&gt;&lt;title&gt;&lt;/title&gt;&lt;/head&gt;&lt;body&gt;&lt;p&gt;&lt;s
 pan&gt;We have one mouth and two ears—that suggests we should listen more th
 an we talk! Most of us think we are good listeners\, but the research sug
 gests otherwise. And yet\, good listeners have deeper\, stronger and bett
 er relationships at work\, at home and with friends. This workshop will e
 xplain why listening is important\, help you figure out what type of list
 ener you are and teach you the necessary skills to become a more effectiv
 e listener.&lt;/span&gt;&lt;/p&gt;\n&lt;p&gt;&lt;span&gt;Facilitated by Gloria Galanes\, MSU dean
  emeritus&lt;br&gt; &lt;br&gt; &lt;/span&gt;&lt;span&gt;&lt;/span&gt;&lt;/p&gt;&lt;/body&gt;&lt;/html&gt;
DTSTART;TZID=America/Chicago:20240320T090000
DTEND;TZID=America/Chicago:20240320T110000
SEQUENCE:0
URL:https://blogs.missouristate.edu/human/2024/01/25/lead-yourself-with-ou
 r-power-skills-series-this-spring/
CATEGORIES:Faculty,Staff
END:VEVENT
END:VCALENDAR