BEGIN:VCALENDAR
VERSION:2.0
METHOD:PUBLISH
PRODID:-//Missouri State University/Calendar of Events//EN
CALSCALE:GREGORIAN
X-WR-TIMEZONE:America/Chicago
BEGIN:VTIMEZONE
TZID:America/Chicago
BEGIN:DAYLIGHT
TZOFFSETFROM:-0600
TZOFFSETTO:-0500
DTSTART:20070311T020000
RRULE:FREQ=YEARLY;BYMONTH=3;BYDAY=2SU
TZNAME:CDT
END:DAYLIGHT
BEGIN:STANDARD
TZOFFSETFROM:-0500
TZOFFSETTO:-0600
DTSTART:20071104T020000
RRULE:FREQ=YEARLY;BYMONTH=11;BYDAY=1SU
TZNAME:CST
END:STANDARD
END:VTIMEZONE
BEGIN:VEVENT
UID:00000000-0000-0000-0000-000000000000.234126@calendar.missouristate.edu
CREATED:20240130T174549Z
LAST-MODIFIED:20240130T174549Z
LOCATION:To Be Determined
SUMMARY:Lunch with a Genius: March 27\, 2024 - Marty Lueck
DESCRIPTION:The Missouri State University Foundation hosts a series of lun
 cheons designed to showcase the many types of genius at Missouri State Un
 iversity. On March 27\, attendees will hear from Marty Lueck\, Journagan 
 Ranch manager. \n\n\n \n\n\n \n\n\n 
X-ALT-DESC;FMTTYPE=text/html:&lt;html&gt;&lt;head&gt;&lt;title&gt;&lt;/title&gt;&lt;/head&gt;&lt;body&gt;&lt;p&gt;Th
 e Missouri State University Foundation hosts a series of luncheons design
 ed to showcase the many types of genius at Missouri State University. On 
 March 27\, attendees will hear from Marty Lueck\, Journagan Ranch manager
 .&amp;nbsp\;&lt;/p&gt;\n&lt;p&gt;&amp;nbsp\;&lt;/p&gt;\n&lt;p&gt;&amp;nbsp\;&lt;/p&gt;\n&lt;p&gt;&amp;nbsp\;&lt;/p&gt;&lt;/body&gt;&lt;/html&gt;
DTSTART;TZID=America/Chicago:20240327T113000
DTEND;TZID=America/Chicago:20240327T130000
SEQUENCE:0
URL:https://missouristate.imodules.com?sid=1691&amp;gid=2&amp;pgid=3540&amp;cid=6270&amp;e
 cid=6270&amp;ciid=21988&amp;crid=0
CATEGORIES:Public,Alumni,Parents and Family,Visitors
END:VEVENT
END:VCALENDAR