BEGIN:VCALENDAR
VERSION:2.0
METHOD:PUBLISH
PRODID:-//Missouri State University/Calendar of Events//EN
CALSCALE:GREGORIAN
X-WR-TIMEZONE:America/Chicago
BEGIN:VTIMEZONE
TZID:America/Chicago
BEGIN:DAYLIGHT
TZOFFSETFROM:-0600
TZOFFSETTO:-0500
DTSTART:20070311T020000
RRULE:FREQ=YEARLY;BYMONTH=3;BYDAY=2SU
TZNAME:CDT
END:DAYLIGHT
BEGIN:STANDARD
TZOFFSETFROM:-0500
TZOFFSETTO:-0600
DTSTART:20071104T020000
RRULE:FREQ=YEARLY;BYMONTH=11;BYDAY=1SU
TZNAME:CST
END:STANDARD
END:VTIMEZONE
BEGIN:VEVENT
UID:84051d83-14e1-4f70-a322-5f19de9b389c.234128@calendar.missouristate.edu
CREATED:20240131T221630Z
LAST-MODIFIED:20240131T221630Z
LOCATION:Zoom
SUMMARY:My Learning Connection ILT Instructor Training
DESCRIPTION:Are you responsible for adding your department’s events into M
 y Learning Connection? If so\, this training is for you!\n\n\nLearn to cr
 eate and edit Instructor Led Training (ILT) events and manage session ros
 ters while adhering to system standards.\n\n\nThis course is required for
  all new My Learning Connection ILT Instructors but is also recommended\,
  as a review\, for existing ILT Instructors.
X-ALT-DESC;FMTTYPE=text/html:&lt;html&gt;&lt;head&gt;&lt;title&gt;&lt;/title&gt;&lt;/head&gt;&lt;body&gt;&lt;p&gt;Ar
 e you responsible for adding your department’s events into &lt;strong&gt;My Lea
 rning Connection&lt;/strong&gt;? If so\, this training is for you!&lt;/p&gt;\n&lt;p&gt;Lear
 n to create and edit Instructor Led Training (ILT) events and manage sess
 ion rosters while adhering to system standards.&lt;/p&gt;\n&lt;p&gt;This course is re
 quired for all new &lt;strong&gt;My Learning Connection ILT Instructors&lt;/strong
 &gt; but is also recommended\, as a review\, for existing ILT Instructors.&lt;/
 p&gt;&lt;/body&gt;&lt;/html&gt;
DTSTART;TZID=America/Chicago:20240215T100000
DTEND;TZID=America/Chicago:20240215T110000
SEQUENCE:0
URL:https://blogs.missouristate.edu/human/2024/01/25/lead-yourself-with-ou
 r-power-skills-series-this-spring/
CATEGORIES:Faculty,Staff
END:VEVENT
END:VCALENDAR