BEGIN:VCALENDAR
VERSION:2.0
METHOD:PUBLISH
PRODID:-//Missouri State University/Calendar of Events//EN
CALSCALE:GREGORIAN
X-WR-TIMEZONE:America/Chicago
BEGIN:VTIMEZONE
TZID:America/Chicago
BEGIN:DAYLIGHT
TZOFFSETFROM:-0600
TZOFFSETTO:-0500
DTSTART:20070311T020000
RRULE:FREQ=YEARLY;BYMONTH=3;BYDAY=2SU
TZNAME:CDT
END:DAYLIGHT
BEGIN:STANDARD
TZOFFSETFROM:-0500
TZOFFSETTO:-0600
DTSTART:20071104T020000
RRULE:FREQ=YEARLY;BYMONTH=11;BYDAY=1SU
TZNAME:CST
END:STANDARD
END:VTIMEZONE
BEGIN:VEVENT
UID:00000000-0000-0000-0000-000000000000.234136@calendar.missouristate.edu
CREATED:20240131T184600Z
LAST-MODIFIED:20240131T184600Z
LOCATION:To Be Determined
SUMMARY:KC Alumni Chapter Third Thursday Happy Hour (May)
DESCRIPTION:Missouri State alumni and friends are invited to the May 16 Ka
 nsas City Alumni Chapter Third Thursday Happy Hour at Coast to Coast Pub.
  Connect with fellow K.C. metro alumni and get to know your Alumni Chapte
 r leaders.\n\n\n 
X-ALT-DESC;FMTTYPE=text/html:&lt;html&gt;&lt;head&gt;&lt;title&gt;&lt;/title&gt;&lt;/head&gt;&lt;body&gt;&lt;p&gt;Mi
 ssouri State alumni and friends are invited to the May 16 Kansas City Alu
 mni Chapter Third Thursday Happy Hour at &lt;strong&gt;Coast to Coast Pub&lt;/stro
 ng&gt;. Connect with fellow K.C. metro alumni and get to know your Alumni Ch
 apter leaders.&lt;/p&gt;\n&lt;p&gt;&amp;nbsp\;&lt;/p&gt;&lt;/body&gt;&lt;/html&gt;
DTSTART;TZID=America/Chicago:20240516T180000
DTEND;TZID=America/Chicago:20240516T200000
SEQUENCE:0
URL:https://missouristate.imodules.com?sid=1691&amp;gid=2&amp;pgid=3574&amp;cid=6316&amp;e
 cid=6316&amp;ciid=22640&amp;crid=0
CATEGORIES:Public,Alumni,Parents and Family,Visitors
END:VEVENT
END:VCALENDAR