BEGIN:VCALENDAR
VERSION:2.0
METHOD:PUBLISH
PRODID:-//Missouri State University/Calendar of Events//EN
CALSCALE:GREGORIAN
X-WR-TIMEZONE:America/Chicago
BEGIN:VTIMEZONE
TZID:America/Chicago
BEGIN:DAYLIGHT
TZOFFSETFROM:-0600
TZOFFSETTO:-0500
DTSTART:20070311T020000
RRULE:FREQ=YEARLY;BYMONTH=3;BYDAY=2SU
TZNAME:CDT
END:DAYLIGHT
BEGIN:STANDARD
TZOFFSETFROM:-0500
TZOFFSETTO:-0600
DTSTART:20071104T020000
RRULE:FREQ=YEARLY;BYMONTH=11;BYDAY=1SU
TZNAME:CST
END:STANDARD
END:VTIMEZONE
BEGIN:VEVENT
UID:0d7c70fb-048a-4807-80b7-af43dd52026f.234145@calendar.missouristate.edu
CREATED:20240214T191003Z
LAST-MODIFIED:20240214T191003Z
LOCATION:Pummill Hall 305
SUMMARY:MSU LEAD ON: Leading Across Generations 
DESCRIPTION:In today's dynamic workforce\, we witness the convergence of f
 ive distinct generations collaborating to achieve common university objec
 tives. This course delves into the nuanced landscape of generational diff
 erences\, exploring each generation's unique preferences\, expectations a
 nd communication methods. It offers a comprehensive examination of both t
 he realities and myths surrounding generational diversity\, emphasizing t
 heir implications for effectively managing students and employees with di
 verse ages\, backgrounds and experiences.\n\n\nFacilitator: Dr. Jeff Fost
 er\n\n\nThe MSU LEAD ON workshops support continued professional developm
 ent in the supervisor training\, MSU LEAD OTHERS: The Supervisor Series.
X-ALT-DESC;FMTTYPE=text/html:&lt;html&gt;&lt;head&gt;&lt;title&gt;&lt;/title&gt;&lt;/head&gt;&lt;body&gt;&lt;p&gt;In
  today's dynamic workforce\, we witness the convergence of five distinct 
 generations collaborating to achieve common university objectives. This c
 ourse delves into the nuanced landscape of generational differences\, exp
 loring each generation's unique preferences\, expectations and communicat
 ion methods. It offers a comprehensive examination of both the realities 
 and myths surrounding generational diversity\, emphasizing their implicat
 ions for effectively managing students and employees with diverse ages\, 
 backgrounds and experiences.&lt;/p&gt;\n&lt;p&gt;Facilitator:&amp;nbsp\;&lt;span&gt;Dr. &lt;/span&gt;
 &lt;span&gt;Jeff Foster&lt;/span&gt;&lt;/p&gt;\n&lt;p&gt;The MSU LEAD ON workshops support contin
 ued professional development in the supervisor training\, MSU LEAD OTHERS
 : The Supervisor Series.&lt;/p&gt;&lt;/body&gt;&lt;/html&gt;
DTSTART;TZID=America/Chicago:20240327T090000
DTEND;TZID=America/Chicago:20240327T120000
SEQUENCE:0
URL:https://blogs.missouristate.edu/human/2024/02/01/new-msu-lead-on-cours
 e-available/
CATEGORIES:Faculty,Staff
END:VEVENT
END:VCALENDAR