BEGIN:VCALENDAR
VERSION:2.0
METHOD:PUBLISH
PRODID:-//Missouri State University/Calendar of Events//EN
CALSCALE:GREGORIAN
X-WR-TIMEZONE:America/Chicago
BEGIN:VTIMEZONE
TZID:America/Chicago
BEGIN:DAYLIGHT
TZOFFSETFROM:-0600
TZOFFSETTO:-0500
DTSTART:20070311T020000
RRULE:FREQ=YEARLY;BYMONTH=3;BYDAY=2SU
TZNAME:CDT
END:DAYLIGHT
BEGIN:STANDARD
TZOFFSETFROM:-0500
TZOFFSETTO:-0600
DTSTART:20071104T020000
RRULE:FREQ=YEARLY;BYMONTH=11;BYDAY=1SU
TZNAME:CST
END:STANDARD
END:VTIMEZONE
BEGIN:VEVENT
UID:b183bf5a-b674-44d7-a8ee-9bd2b7e818a8.234150@calendar.missouristate.edu
CREATED:20240214T190636Z
LAST-MODIFIED:20240214T190636Z
LOCATION:Pummill Hall 202
SUMMARY:LEAD SELF: Managing Conflict 
DESCRIPTION:Conflict is a part of our everyday lives\, within both persona
 l and professional contexts. Yet\, when not properly handled\, these conf
 lict exchanges can lead to dissatisfaction and tense communication. Fortu
 nately\, understanding our own conflict behaviors can enable us to have m
 ore productive and successful interactions. This session will provide a f
 oundation for understanding conflict processes and resolution techniques 
 at home and in the workplace.\n\n\nFacilitator: Erin Wehrman
X-ALT-DESC;FMTTYPE=text/html:&lt;html&gt;&lt;head&gt;&lt;title&gt;&lt;/title&gt;&lt;/head&gt;&lt;body&gt;&lt;p&gt;Co
 nflict is a part of our everyday lives\, within both personal and profess
 ional contexts. Yet\, when not properly handled\, these conflict exchange
 s can lead to dissatisfaction and tense communication. Fortunately\, unde
 rstanding our own conflict behaviors can enable us to have more productiv
 e and successful interactions. This session will provide a foundation for
  understanding conflict processes and resolution techniques at home and i
 n the workplace.&lt;/p&gt;\n&lt;p&gt;Facilitator: Erin Wehrman&lt;/p&gt;&lt;/body&gt;&lt;/html&gt;
DTSTART;TZID=America/Chicago:20240425T133000
DTEND;TZID=America/Chicago:20240425T163000
SEQUENCE:0
URL:https://blogs.missouristate.edu/human/2024/01/25/lead-yourself-with-ou
 r-power-skills-series-this-spring/
CATEGORIES:Faculty,Staff
END:VEVENT
END:VCALENDAR