BEGIN:VCALENDAR
VERSION:2.0
METHOD:PUBLISH
PRODID:-//Missouri State University/Calendar of Events//EN
CALSCALE:GREGORIAN
X-WR-TIMEZONE:America/Chicago
BEGIN:VTIMEZONE
TZID:America/Chicago
BEGIN:DAYLIGHT
TZOFFSETFROM:-0600
TZOFFSETTO:-0500
DTSTART:20070311T020000
RRULE:FREQ=YEARLY;BYMONTH=3;BYDAY=2SU
TZNAME:CDT
END:DAYLIGHT
BEGIN:STANDARD
TZOFFSETFROM:-0500
TZOFFSETTO:-0600
DTSTART:20071104T020000
RRULE:FREQ=YEARLY;BYMONTH=11;BYDAY=1SU
TZNAME:CST
END:STANDARD
END:VTIMEZONE
BEGIN:VEVENT
UID:5084da9d-ba53-481c-bc28-8ddfac40ee0f.234177@calendar.missouristate.edu
CREATED:20240202T151205Z
LAST-MODIFIED:20240202T151205Z
LOCATION:Roy Blunt Hall 143
SUMMARY:Biology Seminar: Mitigate Host Damage in Severe Streptococcal Necr
 otizing Skin Infection
DESCRIPTION:The Biology Department will host a seminar featuring Dr. Wei X
 u from Washington University in St. Louis. The topic of the seminar is "M
 itigate Host Damage in Severe Streptococcal Necrotizing Skin Infection."
X-ALT-DESC;FMTTYPE=text/html:&lt;html&gt;&lt;head&gt;&lt;title&gt;&lt;/title&gt;&lt;/head&gt;&lt;body&gt;&lt;p&gt;Th
 e Biology Department will host a seminar featuring Dr. Wei Xu from Washin
 gton University in St. Louis. The topic of the seminar is "Mitigate Host 
 Damage in Severe Streptococcal Necrotizing Skin Infection."&lt;/p&gt;&lt;/body&gt;&lt;/h
 tml&gt;
DTSTART;TZID=America/Chicago:20240209T160000
DTEND;TZID=America/Chicago:20240209T170000
SEQUENCE:0
URL:
CATEGORIES:Alumni,Current Students,Faculty,Staff
END:VEVENT
END:VCALENDAR