BEGIN:VCALENDAR
VERSION:2.0
METHOD:PUBLISH
PRODID:-//Missouri State University/Calendar of Events//EN
CALSCALE:GREGORIAN
X-WR-TIMEZONE:America/Chicago
BEGIN:VTIMEZONE
TZID:America/Chicago
BEGIN:DAYLIGHT
TZOFFSETFROM:-0600
TZOFFSETTO:-0500
DTSTART:20070311T020000
RRULE:FREQ=YEARLY;BYMONTH=3;BYDAY=2SU
TZNAME:CDT
END:DAYLIGHT
BEGIN:STANDARD
TZOFFSETFROM:-0500
TZOFFSETTO:-0600
DTSTART:20071104T020000
RRULE:FREQ=YEARLY;BYMONTH=11;BYDAY=1SU
TZNAME:CST
END:STANDARD
END:VTIMEZONE
BEGIN:VEVENT
UID:0b85078f-60a2-42c9-ae51-8ab94909922c.234179@calendar.missouristate.edu
CREATED:20240202T165608Z
LAST-MODIFIED:20240202T165608Z
LOCATION:Plaster Student Union\, Robert W.
SUMMARY:Spring Showcase
DESCRIPTION:During Showcase\, you're invited to:\n\n\n\nMeet the faculty w
 ho represent more than 170 academic majors and programs\n\n\nLearn about 
 the admission process\, financial aid and scholarships\n\n\nSee yourself 
 at Missouri State by taking a campus tour\n\n\nGet the Missouri State sto
 ry as can only be told by our students
X-ALT-DESC;FMTTYPE=text/html:&lt;html&gt;&lt;head&gt;&lt;title&gt;&lt;/title&gt;&lt;/head&gt;&lt;body&gt;&lt;p&gt;Du
 ring Showcase\, you're invited to:&lt;/p&gt;\n&lt;ul&gt;\n&lt;li&gt;Meet the faculty who re
 present more than 170 academic majors and programs&lt;/li&gt;\n&lt;/ul&gt;\n&lt;ul&gt;\n&lt;li
 &gt;Learn about the admission process\, financial aid and scholarships&lt;/li&gt;\
 n&lt;/ul&gt;\n&lt;ul&gt;\n&lt;li&gt;See yourself at Missouri State by taking a campus tour&lt;
 /li&gt;\n&lt;/ul&gt;\n&lt;ul&gt;\n&lt;li&gt;Get the Missouri State story as can only be told b
 y our students&lt;/li&gt;\n&lt;/ul&gt;&lt;/body&gt;&lt;/html&gt;
DTSTART;TZID=America/Chicago:20240406T090000
DTEND;TZID=America/Chicago:20240406T140000
SEQUENCE:0
URL:http://MissouriState.edu/Showcase
CATEGORIES:Public,Future Students
END:VEVENT
END:VCALENDAR