BEGIN:VCALENDAR
VERSION:2.0
METHOD:PUBLISH
PRODID:-//Missouri State University/Calendar of Events//EN
CALSCALE:GREGORIAN
X-WR-TIMEZONE:America/Chicago
BEGIN:VTIMEZONE
TZID:America/Chicago
BEGIN:DAYLIGHT
TZOFFSETFROM:-0600
TZOFFSETTO:-0500
DTSTART:20070311T020000
RRULE:FREQ=YEARLY;BYMONTH=3;BYDAY=2SU
TZNAME:CDT
END:DAYLIGHT
BEGIN:STANDARD
TZOFFSETFROM:-0500
TZOFFSETTO:-0600
DTSTART:20071104T020000
RRULE:FREQ=YEARLY;BYMONTH=11;BYDAY=1SU
TZNAME:CST
END:STANDARD
END:VTIMEZONE
BEGIN:VEVENT
UID:0e6bb748-450c-4bfc-ae58-04f33015c321.234180@calendar.missouristate.edu
CREATED:20240202T171241Z
LAST-MODIFIED:20240202T171241Z
LOCATION:Plaster Student Union\, Robert W.
SUMMARY:Summer Visit Days 
DESCRIPTION:WHAT WILL YOU DO AT SUMMER VISIT DAY?\n\n\nTour Missouri State
 's campus.\nHear from a panel of current students.\nLearn about cost and 
 financial aid options.\nParticipate in exciting academic experiences.\nPl
 ay lawn games and enjoy ice cream treats!
X-ALT-DESC;FMTTYPE=text/html:&lt;html&gt;&lt;head&gt;&lt;title&gt;&lt;/title&gt;&lt;/head&gt;&lt;body&gt;&lt;h2&gt;W
 HAT WILL YOU DO AT SUMMER VISIT DAY?&lt;/h2&gt;\n&lt;div&gt;\n&lt;ul&gt;\n&lt;li&gt;Tour Missouri
  State's campus.&lt;/li&gt;\n&lt;li&gt;Hear from a panel of current students.&lt;/li&gt;\n&lt;
 li&gt;Learn about cost and financial aid options.&lt;/li&gt;\n&lt;li&gt;Participate in e
 xciting academic experiences.&lt;/li&gt;\n&lt;li&gt;Play lawn games and enjoy ice cre
 am treats!&lt;/li&gt;\n&lt;/ul&gt;\n&lt;/div&gt;&lt;/body&gt;&lt;/html&gt;
DTSTART;TZID=America/Chicago:20240628T090000
DTEND;TZID=America/Chicago:20240628T140000
SEQUENCE:0
URL:http://MissouriState.edu/SummerVisitDays
CATEGORIES:Public,Future Students
END:VEVENT
END:VCALENDAR