BEGIN:VCALENDAR
VERSION:2.0
METHOD:PUBLISH
PRODID:-//Missouri State University/Calendar of Events//EN
CALSCALE:GREGORIAN
X-WR-TIMEZONE:America/Chicago
BEGIN:VTIMEZONE
TZID:America/Chicago
BEGIN:DAYLIGHT
TZOFFSETFROM:-0600
TZOFFSETTO:-0500
DTSTART:20070311T020000
RRULE:FREQ=YEARLY;BYMONTH=3;BYDAY=2SU
TZNAME:CDT
END:DAYLIGHT
BEGIN:STANDARD
TZOFFSETFROM:-0500
TZOFFSETTO:-0600
DTSTART:20071104T020000
RRULE:FREQ=YEARLY;BYMONTH=11;BYDAY=1SU
TZNAME:CST
END:STANDARD
END:VTIMEZONE
BEGIN:VEVENT
UID:0946322c-468f-42f0-a48c-61346fe93c66.234182@calendar.missouristate.edu
CREATED:20240202T171227Z
LAST-MODIFIED:20240202T171227Z
LOCATION:Plaster Student Union\, Robert W.
SUMMARY:Fall Showcase
DESCRIPTION:Picture yourself as a Bear during Showcase\, designed for high
  school juniors\, seniors and transfer students. Get to know our academic
  programs and resources\, tour campus and residence halls\, learn about t
 he application process and more.
X-ALT-DESC;FMTTYPE=text/html:&lt;html&gt;&lt;head&gt;&lt;title&gt;&lt;/title&gt;&lt;/head&gt;&lt;body&gt;&lt;p&gt;Pi
 cture yourself as a Bear during Showcase\, designed for&amp;nbsp\;high school
  juniors\, seniors and transfer students. Get to know our academic progra
 ms and resources\, tour campus and residence halls\, learn about the appl
 ication process and more.&lt;/p&gt;&lt;/body&gt;&lt;/html&gt;
DTSTART;TZID=America/Chicago:20241102T090000
DTEND;TZID=America/Chicago:20241102T140000
SEQUENCE:0
URL:http://MissouriState.edu/Showcase
CATEGORIES:Public,Future Students
END:VEVENT
END:VCALENDAR