BEGIN:VCALENDAR
VERSION:2.0
METHOD:PUBLISH
PRODID:-//Missouri State University/Calendar of Events//EN
CALSCALE:GREGORIAN
X-WR-TIMEZONE:America/Chicago
BEGIN:VTIMEZONE
TZID:America/Chicago
BEGIN:DAYLIGHT
TZOFFSETFROM:-0600
TZOFFSETTO:-0500
DTSTART:20070311T020000
RRULE:FREQ=YEARLY;BYMONTH=3;BYDAY=2SU
TZNAME:CDT
END:DAYLIGHT
BEGIN:STANDARD
TZOFFSETFROM:-0500
TZOFFSETTO:-0600
DTSTART:20071104T020000
RRULE:FREQ=YEARLY;BYMONTH=11;BYDAY=1SU
TZNAME:CST
END:STANDARD
END:VTIMEZONE
BEGIN:VEVENT
UID:69c9aaf2-5739-4643-8ca4-5d98b38a7681.234183@calendar.missouristate.edu
CREATED:20240202T191846Z
LAST-MODIFIED:20240202T191846Z
LOCATION:Pummill Hall 401
SUMMARY:Writing for Business - Lead Yourself 
DESCRIPTION:Your professional writing skills can help or hinder your perfo
 rmance in the workplace. Your ability to convey ideas and messages clearl
 y\, succinctly and with conviction helps you establish a connection with 
 your readers\, leaving a positive impression. This training will help you
  learn to write more effectively\, whether working on emails\, letters\, 
 manuals\, articles\, reports or even outline notes for an upcoming presen
 tation. This session will also cover how you can use ChatGPT to assist wi
 th your writing. \n\n\n Facilitated by: Emily Yeap
X-ALT-DESC;FMTTYPE=text/html:&lt;html&gt;&lt;head&gt;&lt;title&gt;&lt;/title&gt;&lt;/head&gt;&lt;body&gt;&lt;p&gt;Yo
 ur professional writing skills can help or hinder your performance in the
  workplace. Your ability to convey ideas and messages clearly\, succinctl
 y and with conviction helps you establish a connection with your readers\
 , leaving a positive impression. This training will help you learn to wri
 te more effectively\, whether working on emails\, letters\, manuals\, art
 icles\, reports or even outline notes for an upcoming presentation. This 
 session will also cover how you can use ChatGPT to assist with your writi
 ng. &lt;/p&gt;\n&lt;p&gt;&amp;nbsp\;Facilitated by: Emily Yeap&lt;/p&gt;&lt;/body&gt;&lt;/html&gt;
DTSTART;TZID=America/Chicago:20240328T100000
DTEND;TZID=America/Chicago:20240328T113000
SEQUENCE:0
URL:https://blogs.missouristate.edu/human/2024/01/25/lead-yourself-with-ou
 r-power-skills-series-this-spring/
CATEGORIES:Faculty,Staff
END:VEVENT
END:VCALENDAR