BEGIN:VCALENDAR
VERSION:2.0
METHOD:PUBLISH
PRODID:-//Missouri State University/Calendar of Events//EN
CALSCALE:GREGORIAN
X-WR-TIMEZONE:America/Chicago
BEGIN:VTIMEZONE
TZID:America/Chicago
BEGIN:DAYLIGHT
TZOFFSETFROM:-0600
TZOFFSETTO:-0500
DTSTART:20070311T020000
RRULE:FREQ=YEARLY;BYMONTH=3;BYDAY=2SU
TZNAME:CDT
END:DAYLIGHT
BEGIN:STANDARD
TZOFFSETFROM:-0500
TZOFFSETTO:-0600
DTSTART:20071104T020000
RRULE:FREQ=YEARLY;BYMONTH=11;BYDAY=1SU
TZNAME:CST
END:STANDARD
END:VTIMEZONE
BEGIN:VEVENT
UID:00000000-0000-0000-0000-000000000000.234185@calendar.missouristate.edu
CREATED:20240202T224538Z
LAST-MODIFIED:20240202T224538Z
LOCATION:To Be Determined
SUMMARY:Springfield Alumni Chapter Happy Hour
DESCRIPTION:Join the Springfield Alumni Chapter for a happy hour at Miss B
 oston's Cocktail Lounge on Feb. 22. Get to know fellow Bears and meet you
 r Alumni Chapter leaders. Extend a warm welcome to our recent graduates a
 s we strengthen the Bear network in the area!
X-ALT-DESC;FMTTYPE=text/html:&lt;html&gt;&lt;head&gt;&lt;title&gt;&lt;/title&gt;&lt;/head&gt;&lt;body&gt;Join 
 the Springfield Alumni Chapter for a happy hour at Miss Boston's Cocktail
  Lounge on Feb. 22. Get to know fellow Bears and meet your Alumni Chapter
  leaders. Extend a warm welcome to our recent graduates as we strengthen 
 the Bear network in the area!&lt;/body&gt;&lt;/html&gt;
DTSTART;TZID=America/Chicago:20240222T163000
DTEND;TZID=America/Chicago:20240222T193000
SEQUENCE:0
URL:https://missouristate.imodules.com?sid=1691&amp;gid=2&amp;pgid=3580&amp;cid=6324&amp;e
 cid=6324&amp;ciid=21853&amp;crid=0
CATEGORIES:Public,Alumni,Parents and Family,Visitors
END:VEVENT
END:VCALENDAR