BEGIN:VCALENDAR
VERSION:2.0
METHOD:PUBLISH
PRODID:-//Missouri State University/Calendar of Events//EN
CALSCALE:GREGORIAN
X-WR-TIMEZONE:America/Chicago
BEGIN:VTIMEZONE
TZID:America/Chicago
BEGIN:DAYLIGHT
TZOFFSETFROM:-0600
TZOFFSETTO:-0500
DTSTART:20070311T020000
RRULE:FREQ=YEARLY;BYMONTH=3;BYDAY=2SU
TZNAME:CDT
END:DAYLIGHT
BEGIN:STANDARD
TZOFFSETFROM:-0500
TZOFFSETTO:-0600
DTSTART:20071104T020000
RRULE:FREQ=YEARLY;BYMONTH=11;BYDAY=1SU
TZNAME:CST
END:STANDARD
END:VTIMEZONE
BEGIN:VEVENT
UID:cc0713d9-c5b8-4136-8fd9-c1450f97394c.234187@calendar.missouristate.edu
CREATED:20240222T155713Z
LAST-MODIFIED:20240222T155713Z
LOCATION:Plaster Free Enterprise Center\, Robert W.
SUMMARY:Optimizing Workplace Safety through Threat Assessment Processes
DESCRIPTION:Every organization should have a response team made up of the 
 company's safety and security stakeholders. This can include business lea
 ders from HR\, Safety\, Security\, Risk Management\, Facilities\, IT\, an
 d those that have responsibilities connected to the safety\, security\, a
 nd well-being of the employees\, products and services\, clients and cust
 omers\, facilities\, and reputation of the business. The possibility of w
 orkplace violence\, committed by strangers\, customers\, current or forme
 r employees\, or involving domestic violence that crosses over from home 
 to work for an employee\, requires a committed\, immediate\, and intellig
 ent response. The best approach\, and one that develops solutions to inte
 rnal and external threats of violence\, involves the creation and operati
 on of a Threat Assessment Team (TAT). This group can successfully manage 
 any threat to the organization\, including anonymous threats\, cyber thre
 ats\, reputational threats\, or potential acts of violence\, by using a s
 tructured threat assessment process. Led by a local Springfield\, Missour
 i\, expert\, who is nationally known for his 30-year career in violence p
 revention\, this program teaches this process.\n\n\nWho should attend:Hum
 an Resources\, Operations\, Security and Safety Professionals\, Risk Mana
 gers\, Business Leaders\, Business Owners\, Department Heads and Managers.
X-ALT-DESC;FMTTYPE=text/html:&lt;html&gt;&lt;head&gt;&lt;title&gt;&lt;/title&gt;&lt;/head&gt;&lt;body&gt;&lt;p&gt;&lt;s
 pan&gt;Every organization should have a response team made up of the company
 's safety and security stakeholders. This can include business leaders fr
 om HR\, Safety\, Security\, Risk Management\, Facilities\, IT\, and those
  that have responsibilities connected to the safety\, security\, and well
 -being of the employees\, products and services\, clients and customers\,
  facilities\, and reputation of the business. The possibility of workplac
 e violence\, committed by strangers\, customers\, current or former emplo
 yees\, or involving domestic violence that crosses over from home to work
  for an employee\, requires a committed\, immediate\, and intelligent res
 ponse. The best approach\, and one that develops solutions to internal an
 d external threats of violence\, involves the creation and operation of a
  Threat Assessment Team (TAT). This group can successfully manage any thr
 eat to the organization\, including anonymous threats\, cyber threats\, r
 eputational threats\, or potential acts of violence\, by using a structur
 ed threat assessment process. Led by a local Springfield\, Missouri\, exp
 ert\, who is nationally known for his 30-year career in violence preventi
 on\, this program teaches this process.&lt;/span&gt;&lt;/p&gt;\n&lt;p&gt;&lt;b&gt;Who should atte
 nd:&lt;/b&gt;&lt;span&gt;&lt;/span&gt;&lt;br&gt;&lt;span&gt;Human Resources\, Operations\, Security and
  Safety Professionals\, Risk Managers\, Business Leaders\, Business Owner
 s\, Department Heads and Managers.&lt;/span&gt;&lt;/p&gt;&lt;/body&gt;&lt;/html&gt;
DTSTART;TZID=America/Chicago:20240514T090000
DTEND;TZID=America/Chicago:20240514T160000
SEQUENCE:0
URL:https://missouri.ecenterdirect.com/events/25026
CATEGORIES:Public
END:VEVENT
END:VCALENDAR