BEGIN:VCALENDAR
VERSION:2.0
METHOD:PUBLISH
PRODID:-//Missouri State University/Calendar of Events//EN
CALSCALE:GREGORIAN
X-WR-TIMEZONE:America/Chicago
BEGIN:VTIMEZONE
TZID:America/Chicago
BEGIN:DAYLIGHT
TZOFFSETFROM:-0600
TZOFFSETTO:-0500
DTSTART:20070311T020000
RRULE:FREQ=YEARLY;BYMONTH=3;BYDAY=2SU
TZNAME:CDT
END:DAYLIGHT
BEGIN:STANDARD
TZOFFSETFROM:-0500
TZOFFSETTO:-0600
DTSTART:20071104T020000
RRULE:FREQ=YEARLY;BYMONTH=11;BYDAY=1SU
TZNAME:CST
END:STANDARD
END:VTIMEZONE
BEGIN:VEVENT
UID:00000000-0000-0000-0000-000000000000.234188@calendar.missouristate.edu
CREATED:20240205T164533Z
LAST-MODIFIED:20240205T164533Z
LOCATION:To Be Determined
SUMMARY:Retired Faculty and Staff Tour of KSMU OPT
DESCRIPTION:Missouri State University retired faculty and staff are invite
 d to attend an exclusive tour of the KSMU and OPT studios on Tues. Feb 27
 \, beginning at 10 a.m.. 
X-ALT-DESC;FMTTYPE=text/html:&lt;html&gt;&lt;head&gt;&lt;title&gt;&lt;/title&gt;&lt;/head&gt;&lt;body&gt;Misso
 uri State University retired faculty and staff are invited to attend an e
 xclusive tour of the KSMU and OPT studios on Tues. Feb 27\, beginning at 
 10 a.m..&amp;nbsp\;&lt;br&gt;\n&lt;div&gt;&lt;br&gt;\n&lt;/div&gt;&lt;/body&gt;&lt;/html&gt;
DTSTART;TZID=America/Chicago:20240227T100000
DTEND;TZID=America/Chicago:20240227T113000
SEQUENCE:0
URL:https://missouristate.imodules.com?sid=1691&amp;gid=2&amp;pgid=3583&amp;cid=6330&amp;e
 cid=6330&amp;ciid=22024&amp;crid=0
CATEGORIES:Public,Alumni,Parents and Family,Visitors
END:VEVENT
END:VCALENDAR