BEGIN:VCALENDAR
VERSION:2.0
METHOD:PUBLISH
PRODID:-//Missouri State University/Calendar of Events//EN
CALSCALE:GREGORIAN
X-WR-TIMEZONE:America/Chicago
BEGIN:VTIMEZONE
TZID:America/Chicago
BEGIN:DAYLIGHT
TZOFFSETFROM:-0600
TZOFFSETTO:-0500
DTSTART:20070311T020000
RRULE:FREQ=YEARLY;BYMONTH=3;BYDAY=2SU
TZNAME:CDT
END:DAYLIGHT
BEGIN:STANDARD
TZOFFSETFROM:-0500
TZOFFSETTO:-0600
DTSTART:20071104T020000
RRULE:FREQ=YEARLY;BYMONTH=11;BYDAY=1SU
TZNAME:CST
END:STANDARD
END:VTIMEZONE
BEGIN:VEVENT
UID:54e7b8e0-c161-4b6f-8d39-7654c848cfa4.234189@calendar.missouristate.edu
CREATED:20240205T173321Z
LAST-MODIFIED:20240205T173321Z
LOCATION:Meyer Library\, Duane G. 206
SUMMARY:Just the Basics: Getting Started with Brightspace
DESCRIPTION:This training is Facilitated by the Faculty Center for Teachin
 g and Learning. Our Instructional Designers will focus on meeting the uni
 versity's LMS minimal use policy. By the end of the session participants 
 will be able to navigate their courses on Brightspace\, create modules an
 d upload their course syllabus\, and use communication tools within the B
 rightspace platform. This session is offered for multiple times and dates
 \, so please register for the one that works best for your calendar on ML
 C.   Participants are encourged to bring their own device.
X-ALT-DESC;FMTTYPE=text/html:&lt;html&gt;&lt;head&gt;&lt;title&gt;&lt;/title&gt;&lt;/head&gt;&lt;body&gt;&lt;p&gt;Th
 is training is Facilitated by the Faculty Center for Teaching and Learnin
 g. Our Instructional Designers will focus on meeting the university's LMS
  minimal use policy. By the end of the session participants will be able 
 to navigate their courses on Brightspace\, create modules and upload thei
 r course syllabus\, and use communication tools within the Brightspace pl
 atform. This session is offered for multiple times and dates\, so please 
 register for the one that works best for your calendar on MLC.&amp;nbsp\; &amp;nb
 sp\;Participants are encourged to bring their own device.&lt;/p&gt;&lt;/body&gt;&lt;/htm
 l&gt;
DTSTART;TZID=America/Chicago:20240304T100000
DTEND;TZID=America/Chicago:20240304T233000
SEQUENCE:0
URL:https://calendar.missouristate.edu/viewevent.aspx?eventid=122972&amp;occur
 renceid=234189
CATEGORIES:Public,Faculty,Staff
END:VEVENT
END:VCALENDAR