BEGIN:VCALENDAR
VERSION:2.0
METHOD:PUBLISH
PRODID:-//Missouri State University/Calendar of Events//EN
CALSCALE:GREGORIAN
X-WR-TIMEZONE:America/Chicago
BEGIN:VTIMEZONE
TZID:America/Chicago
BEGIN:DAYLIGHT
TZOFFSETFROM:-0600
TZOFFSETTO:-0500
DTSTART:20070311T020000
RRULE:FREQ=YEARLY;BYMONTH=3;BYDAY=2SU
TZNAME:CDT
END:DAYLIGHT
BEGIN:STANDARD
TZOFFSETFROM:-0500
TZOFFSETTO:-0600
DTSTART:20071104T020000
RRULE:FREQ=YEARLY;BYMONTH=11;BYDAY=1SU
TZNAME:CST
END:STANDARD
END:VTIMEZONE
BEGIN:VEVENT
UID:411c7ece-002c-4716-aaea-447c637d0949.234203@calendar.missouristate.edu
CREATED:20240214T185300Z
LAST-MODIFIED:20240214T185300Z
LOCATION:Plaster Student Union\, Robert W. Ballroom
SUMMARY:Association of International Students 44th Annual Banquet and Show
DESCRIPTION:The Association of International Students 44th Annual Banquet 
 and Show will feature cuisine from around the world in the PSU Ballroom. 
 \n\n\nAfter dinner\, the guest will make their way to the PSU Theater\, w
 here they will be entertained by performances by MSU international studen
 ts.
X-ALT-DESC;FMTTYPE=text/html:&lt;html&gt;&lt;head&gt;&lt;title&gt;&lt;/title&gt;&lt;/head&gt;&lt;body&gt;&lt;p&gt;Th
 e Association of International Students 44th Annual Banquet and Show will
  feature cuisine from around the world in the PSU Ballroom.&amp;nbsp\;&lt;/p&gt;\n&lt;
 p&gt;After dinner\, the guest will make their way to the PSU Theater\, where
  they will be entertained by performances by MSU international students.&lt;
 /p&gt;&lt;/body&gt;&lt;/html&gt;
DTSTART;TZID=America/Chicago:20240224T170000
DTEND;TZID=America/Chicago:20240224T210000
SEQUENCE:0
URL:122974.jpg
CATEGORIES:Public,Alumni,Current Students,Faculty,Future Students,Staff
END:VEVENT
END:VCALENDAR