BEGIN:VCALENDAR
VERSION:2.0
METHOD:PUBLISH
PRODID:-//Missouri State University/Calendar of Events//EN
CALSCALE:GREGORIAN
X-WR-TIMEZONE:America/Chicago
BEGIN:VTIMEZONE
TZID:America/Chicago
BEGIN:DAYLIGHT
TZOFFSETFROM:-0600
TZOFFSETTO:-0500
DTSTART:20070311T020000
RRULE:FREQ=YEARLY;BYMONTH=3;BYDAY=2SU
TZNAME:CDT
END:DAYLIGHT
BEGIN:STANDARD
TZOFFSETFROM:-0500
TZOFFSETTO:-0600
DTSTART:20071104T020000
RRULE:FREQ=YEARLY;BYMONTH=11;BYDAY=1SU
TZNAME:CST
END:STANDARD
END:VTIMEZONE
BEGIN:VEVENT
UID:e41d95e0-ffc6-40d0-920b-352edf104dd8.234204@calendar.missouristate.edu
CREATED:20240214T184411Z
LAST-MODIFIED:20240214T184411Z
LOCATION:Plaster Student Union\, Robert W. 2nd Floor Table
SUMMARY:NPHC Celebration Day
DESCRIPTION:This day is designed to celebrate National Pan-Hellenic (NPHC)
  Greeks on campus. This is the national programming board for the nine (D
 ivine Nine) historically African-American sororities and fraternities. Co
 me see our display created by University Archives highlighting the buildi
 ng and growth of NPHC organizations at Missouri State University. 
X-ALT-DESC;FMTTYPE=text/html:&lt;html&gt;&lt;head&gt;&lt;title&gt;&lt;/title&gt;&lt;/head&gt;&lt;body&gt;&lt;div&gt;
 \n&lt;div&gt;&lt;/div&gt;\n&lt;/div&gt;\n&lt;p&gt;This day is designed to celebrate National Pan-
 Hellenic (NPHC) Greeks on campus. This is the national programming board 
 for the nine (Divine Nine) historically African-American sororities and f
 raternities. Come see our display created by University Archives highligh
 ting the building and growth of NPHC organizations at Missouri State Univ
 ersity.&amp;nbsp\;&lt;/p&gt;&lt;/body&gt;&lt;/html&gt;
DTSTART;TZID=America/Chicago:20240208T140000
DTEND;TZID=America/Chicago:20240208T160000
SEQUENCE:0
URL:
CATEGORIES:Alumni,Current Students,Faculty,Staff
END:VEVENT
END:VCALENDAR