BEGIN:VCALENDAR
VERSION:2.0
METHOD:PUBLISH
PRODID:-//Missouri State University/Calendar of Events//EN
CALSCALE:GREGORIAN
X-WR-TIMEZONE:America/Chicago
BEGIN:VTIMEZONE
TZID:America/Chicago
BEGIN:DAYLIGHT
TZOFFSETFROM:-0600
TZOFFSETTO:-0500
DTSTART:20070311T020000
RRULE:FREQ=YEARLY;BYMONTH=3;BYDAY=2SU
TZNAME:CDT
END:DAYLIGHT
BEGIN:STANDARD
TZOFFSETFROM:-0500
TZOFFSETTO:-0600
DTSTART:20071104T020000
RRULE:FREQ=YEARLY;BYMONTH=11;BYDAY=1SU
TZNAME:CST
END:STANDARD
END:VTIMEZONE
BEGIN:VEVENT
UID:87555743-265d-48da-810c-20955ce78b5c.234205@calendar.missouristate.edu
CREATED:20240214T184157Z
LAST-MODIFIED:20240214T184157Z
LOCATION:Plaster Student Union\, Robert W. Multicultural Resource Center
SUMMARY:NPHC Celebration Reception
DESCRIPTION:Join us in celebrating our NPHC members with a reception and d
 isplay of historical memoribial from the start of NPHC organizations at M
 issouri State. 
X-ALT-DESC;FMTTYPE=text/html:&lt;html&gt;&lt;head&gt;&lt;title&gt;&lt;/title&gt;&lt;/head&gt;&lt;body&gt;&lt;p&gt;Jo
 in us in celebrating our NPHC members with a reception and display of his
 torical memoribial from the start of NPHC organizations at Missouri State
 .&amp;nbsp\;&lt;/p&gt;&lt;/body&gt;&lt;/html&gt;
DTSTART;TZID=America/Chicago:20240208T160000
DTEND;TZID=America/Chicago:20240208T170000
SEQUENCE:0
URL:
CATEGORIES:Alumni,Current Students,Faculty,Staff
END:VEVENT
END:VCALENDAR