BEGIN:VCALENDAR
VERSION:2.0
METHOD:PUBLISH
PRODID:-//Missouri State University/Calendar of Events//EN
CALSCALE:GREGORIAN
X-WR-TIMEZONE:America/Chicago
BEGIN:VTIMEZONE
TZID:America/Chicago
BEGIN:DAYLIGHT
TZOFFSETFROM:-0600
TZOFFSETTO:-0500
DTSTART:20070311T020000
RRULE:FREQ=YEARLY;BYMONTH=3;BYDAY=2SU
TZNAME:CDT
END:DAYLIGHT
BEGIN:STANDARD
TZOFFSETFROM:-0500
TZOFFSETTO:-0600
DTSTART:20071104T020000
RRULE:FREQ=YEARLY;BYMONTH=11;BYDAY=1SU
TZNAME:CST
END:STANDARD
END:VTIMEZONE
BEGIN:VEVENT
UID:52db353c-d7e0-45b0-9e31-bce71f18407e.234216@calendar.missouristate.edu
CREATED:20240206T171239Z
LAST-MODIFIED:20240206T171239Z
LOCATION:Meyer Library\, Duane G. 101
SUMMARY:Chemistry &amp; Biochemistry Seminar: "Single-quad vs triple-quad vs Q
 TOF technology - how they differ and what type of data each produces"
DESCRIPTION:By: Adam Klein and Greg Feldman\, Shimadzu Corporation\n\n\nAb
 stract\n\n\nShimadzu Corporation is a manufacture of scientific instrumen
 ts for broad application areas and the product lineups of the company inc
 lude various spectrophotometers (UV/vis\, fluorescence\, IR\, Raman etc.)
 \, GCs\, HPLCs\, mass spectrometers\, material testing instruments and ma
 ny other instruments. Shimadzu is also known for pursuing cutting-edge sc
 ience and technologies in analytical and measuring instruments.  In fact\
 , Koichi Tanaka\, a research fellow of Shimadzu Corporation\, received th
 e Nobel Prize in Chemistry in 2002 on his work at Shimadzu for "developin
 g a novel method for mass spectrometric analyses of biological macromolec
 ules" with John Bennett Fenn and Kurt Wüthrich.  \n\n\nIn this seminar\, 
 Adam Klein and Greg Feldman from Shimadzu Corporation will present the fu
 ndamental aspects of how three different types of mass spectrometers (sin
 gle-quadrupole\, triple-quadrupole and QTOF mass spectrometers) work and 
 how they are used in modern chemical analyses.
X-ALT-DESC;FMTTYPE=text/html:&lt;html&gt;&lt;head&gt;&lt;title&gt;&lt;/title&gt;&lt;/head&gt;&lt;body&gt;&lt;p&gt;By
 : Adam Klein and Greg Feldman\, Shimadzu Corporation&lt;/p&gt;\n&lt;p&gt;&lt;b&gt;&lt;span&gt;Abs
 tract&lt;/span&gt;&lt;/b&gt;&lt;/p&gt;\n&lt;p&gt;&lt;span&gt;Shimadzu Corporation is a manufacture of s
 cientific instruments for broad application areas and the product lineups
  of the company include various spectrophotometers (UV/vis\, fluorescence
 \, IR\, Raman etc.)\, GCs\, HPLCs\, mass spectrometers\, material testing
  instruments and many other instruments. Shimadzu is also known for pursu
 ing cutting-edge science and technologies in analytical and measuring ins
 truments.&amp;nbsp\; In fact\, Koichi Tanaka\, a research fellow of Shimadzu 
 Corporation\, received the Nobel Prize in Chemistry in 2002 on his work a
 t Shimadzu for "developing a novel method for mass spectrometric analyses
  of biological macromolecules" with John Bennett Fenn and Kurt Wüthrich.&amp;
 nbsp\; &lt;/span&gt;&lt;/p&gt;\n&lt;p&gt;&lt;span&gt;In this seminar\, Adam Klein and Greg Feldma
 n from Shimadzu Corporation will present the fundamental aspects of how t
 hree different types of mass spectrometers (single-quadrupole\, triple-qu
 adrupole and QTOF mass spectrometers) work and how they are used in moder
 n chemical analyses.&lt;/span&gt;&lt;/p&gt;&lt;/body&gt;&lt;/html&gt;
DTSTART;TZID=America/Chicago:20240221T153500
DTEND;TZID=America/Chicago:20240221T162500
SEQUENCE:0
URL:https://chemistry.missouristate.edu/Seminars.htm
CATEGORIES:Public,Alumni,Current Students,Faculty,Future Students,Staff
END:VEVENT
END:VCALENDAR