BEGIN:VCALENDAR
VERSION:2.0
METHOD:PUBLISH
PRODID:-//Missouri State University/Calendar of Events//EN
CALSCALE:GREGORIAN
X-WR-TIMEZONE:America/Chicago
BEGIN:VTIMEZONE
TZID:America/Chicago
BEGIN:DAYLIGHT
TZOFFSETFROM:-0600
TZOFFSETTO:-0500
DTSTART:20070311T020000
RRULE:FREQ=YEARLY;BYMONTH=3;BYDAY=2SU
TZNAME:CDT
END:DAYLIGHT
BEGIN:STANDARD
TZOFFSETFROM:-0500
TZOFFSETTO:-0600
DTSTART:20071104T020000
RRULE:FREQ=YEARLY;BYMONTH=11;BYDAY=1SU
TZNAME:CST
END:STANDARD
END:VTIMEZONE
BEGIN:VEVENT
UID:22663f76-521d-4817-8733-40349d3e52d0.234217@calendar.missouristate.edu
CREATED:20240206T173505Z
LAST-MODIFIED:20240206T173505Z
LOCATION:Meyer Library\, Duane G. 101
SUMMARY:A Conversation on Social Justice with Helanius J. Wilkins
DESCRIPTION:The Missouri State Theater and Dance Department invites you to
  join them for a conversation and moderated Q&amp;A with Helanius J. Wilkins\
 , an award-winning choreographer\, performance artist\, artivist\, and ed
 ucator who engages artmaking to forge paths towards social change and equ
 itable landscapes. \n\n\nHelanius is a visiting Artist-in-Residence from 
 the University of Colorado Boulder.\n\n\nA free\, in-person only event.  
 Open to students\, campus community and the public.\n\n\nMetered parking 
 available at Lot 19 or the Bear Park South parking garage.  For more info
 rmation on this event\, contact the Office of Public Affairs Support at 4
 17-836-8832.
X-ALT-DESC;FMTTYPE=text/html:&lt;html&gt;&lt;head&gt;&lt;title&gt;&lt;/title&gt;&lt;/head&gt;&lt;body&gt;&lt;p&gt;Th
 e Missouri State Theater and Dance Department invites you to join them fo
 r a conversation and moderated Q&amp;amp\;A with&amp;nbsp\;&lt;a href="https://www.h
 elaniusj.com/about"&gt;Helanius J. Wilkins&lt;/a&gt;\, an award-winning choreograp
 her\, performance artist\, artivist\, and educator who engages artmaking 
 to forge paths towards social change and equitable landscapes.&amp;nbsp\;&lt;/p&gt;
 \n&lt;p&gt;Helanius is a visiting Artist-in-Residence from the University of Co
 lorado Boulder.&lt;/p&gt;\n&lt;p&gt;A free\, in-person only event.&amp;nbsp\; Open to stu
 dents\, campus community and the public.&lt;/p&gt;\n&lt;p&gt;Metered parking availabl
 e at Lot 19 or the Bear Park South parking garage.&amp;nbsp\; For more inform
 ation on this event\, contact the Office of Public Affairs Support at 417
 -836-8832.&lt;/p&gt;&lt;/body&gt;&lt;/html&gt;
DTSTART;TZID=America/Chicago:20240215T160000
DTEND;TZID=America/Chicago:20240215T173000
SEQUENCE:0
URL:https://blogs.missouristate.edu/publicaffairs/2024/02/06/a-conversatio
 n-on-social-justice/
CATEGORIES:Public,Alumni,Current Students,Faculty,Future Students,Staff
END:VEVENT
END:VCALENDAR