BEGIN:VCALENDAR
VERSION:2.0
METHOD:PUBLISH
PRODID:-//Missouri State University/Calendar of Events//EN
CALSCALE:GREGORIAN
X-WR-TIMEZONE:America/Chicago
BEGIN:VTIMEZONE
TZID:America/Chicago
BEGIN:DAYLIGHT
TZOFFSETFROM:-0600
TZOFFSETTO:-0500
DTSTART:20070311T020000
RRULE:FREQ=YEARLY;BYMONTH=3;BYDAY=2SU
TZNAME:CDT
END:DAYLIGHT
BEGIN:STANDARD
TZOFFSETFROM:-0500
TZOFFSETTO:-0600
DTSTART:20071104T020000
RRULE:FREQ=YEARLY;BYMONTH=11;BYDAY=1SU
TZNAME:CST
END:STANDARD
END:VTIMEZONE
BEGIN:VEVENT
UID:7dfe7e4c-3c42-439c-b823-9b688489244a.234218@calendar.missouristate.edu
CREATED:20240206T192310Z
LAST-MODIFIED:20240206T192310Z
LOCATION:Plaster Student Union\, Robert W. PSU Remembrance Lounge
SUMMARY:Bear Wear Friday Table
DESCRIPTION:We will be giving away free Insomnia cookies and hot chocolate
  to students who are wearing Bear Wear!\n\n\nStudents will also be entere
 d in to win a gift card to Target or Amazon!
X-ALT-DESC;FMTTYPE=text/html:&lt;html&gt;&lt;head&gt;&lt;title&gt;&lt;/title&gt;&lt;/head&gt;&lt;body&gt;&lt;p&gt;We
  will be giving away free Insomnia cookies and hot chocolate to students 
 who are wearing Bear Wear!&lt;/p&gt;\n&lt;p&gt;Students will also be entered in to wi
 n a gift card to Target or Amazon!&lt;/p&gt;&lt;/body&gt;&lt;/html&gt;
DTSTART;TZID=America/Chicago:20240216T110000
DTEND;TZID=America/Chicago:20240216T130000
SEQUENCE:0
URL:122989.jpg
CATEGORIES:Current Students
END:VEVENT
END:VCALENDAR