BEGIN:VCALENDAR
VERSION:2.0
METHOD:PUBLISH
PRODID:-//Missouri State University/Calendar of Events//EN
CALSCALE:GREGORIAN
X-WR-TIMEZONE:America/Chicago
BEGIN:VTIMEZONE
TZID:America/Chicago
BEGIN:DAYLIGHT
TZOFFSETFROM:-0600
TZOFFSETTO:-0500
DTSTART:20070311T020000
RRULE:FREQ=YEARLY;BYMONTH=3;BYDAY=2SU
TZNAME:CDT
END:DAYLIGHT
BEGIN:STANDARD
TZOFFSETFROM:-0500
TZOFFSETTO:-0600
DTSTART:20071104T020000
RRULE:FREQ=YEARLY;BYMONTH=11;BYDAY=1SU
TZNAME:CST
END:STANDARD
END:VTIMEZONE
BEGIN:VEVENT
UID:aa71e9ff-d524-4be6-b58f-3eec6f4649ac.234220@calendar.missouristate.edu
CREATED:20240206T193941Z
LAST-MODIFIED:20240206T193941Z
LOCATION:Plaster Student Union\, Robert W. PSU Remembrance Lounge
SUMMARY:Missouri State Check-In Table #1
DESCRIPTION:Free ice skating tickets for Jordan Valley Ice Rink for studen
 ts who have the Traditions Bearer app. 
X-ALT-DESC;FMTTYPE=text/html:&lt;html&gt;&lt;head&gt;&lt;title&gt;&lt;/title&gt;&lt;/head&gt;&lt;body&gt;&lt;p&gt;Fr
 ee ice skating tickets for Jordan Valley Ice Rink for students who have t
 he Traditions Bearer app.&amp;nbsp\;&lt;/p&gt;&lt;/body&gt;&lt;/html&gt;
DTSTART;TZID=America/Chicago:20240213T110000
DTEND;TZID=America/Chicago:20240213T130000
SEQUENCE:0
URL:122991.jpg
CATEGORIES:Current Students
END:VEVENT
END:VCALENDAR